BEGIN:VCALENDAR
VERSION:2.0
PRODID:-//Kulturkreis Lintelner Geest e. V. - ECPv6.15.20//NONSGML v1.0//EN
CALSCALE:GREGORIAN
METHOD:PUBLISH
X-ORIGINAL-URL:https://www.kulturkreis-lintelner-geest.de
X-WR-CALDESC:Veranstaltungen für Kulturkreis Lintelner Geest e. V.
REFRESH-INTERVAL;VALUE=DURATION:PT1H
X-Robots-Tag:noindex
X-PUBLISHED-TTL:PT1H
BEGIN:VTIMEZONE
TZID:Europe/Berlin
BEGIN:DAYLIGHT
TZOFFSETFROM:+0100
TZOFFSETTO:+0200
TZNAME:CEST
DTSTART:20210328T010000
END:DAYLIGHT
BEGIN:STANDARD
TZOFFSETFROM:+0200
TZOFFSETTO:+0100
TZNAME:CET
DTSTART:20211031T010000
END:STANDARD
BEGIN:DAYLIGHT
TZOFFSETFROM:+0100
TZOFFSETTO:+0200
TZNAME:CEST
DTSTART:20220327T010000
END:DAYLIGHT
BEGIN:STANDARD
TZOFFSETFROM:+0200
TZOFFSETTO:+0100
TZNAME:CET
DTSTART:20221030T010000
END:STANDARD
BEGIN:DAYLIGHT
TZOFFSETFROM:+0100
TZOFFSETTO:+0200
TZNAME:CEST
DTSTART:20230326T010000
END:DAYLIGHT
BEGIN:STANDARD
TZOFFSETFROM:+0200
TZOFFSETTO:+0100
TZNAME:CET
DTSTART:20231029T010000
END:STANDARD
END:VTIMEZONE
BEGIN:VEVENT
DTSTART;TZID=Europe/Berlin:20221213T180000
DTEND;TZID=Europe/Berlin:20221213T193000
DTSTAMP:20260420T104455
CREATED:20220916T133242Z
LAST-MODIFIED:20220916T133242Z
UID:10002790-1670954400-1670959800@www.kulturkreis-lintelner-geest.de
SUMMARY:Englisch-Kurs "Refresh Your English"
DESCRIPTION:Englisch-Kurs „Refresh Your English“\nDer Englisch-Kurs richtet sich an Teilnehmer:Innen\, die zwar mal Englisch gelernt hatten\, deren Kenntnisse aber „verschüttet“ sind. Wir lernen zunächst die wichtigsten Basiswörter und etwas Grammatik. Sprechen und Hörenverstehen stehen im Mittelpunkt. \nLos geht‘s am Dienstag\, 11. Oktober\, 18:00-19:30 Uhr.\nDer Kurs endet am 13. Dezember. Ein neuer Kurs beginnt am 10. Januar 2023\nGrundkenntnisse sollten vorhanden sein. \nKosten: 5-6 TN: 125€ | 7-10 TN: 110€ (10 Termine) \nWeitere Informationen und Anmeldung bei\nSusanne Zweibrück | Telefon: 04237 / 510 oder\nSusanne.Zweibrueck@gmx.net \n 
URL:https://www.kulturkreis-lintelner-geest.de/event/englisch-kurs-refresh-your-english-8/
LOCATION:Müllerhaus\, Schmomühlener Straße 9\, Brunsbrock\, 27308\, Deutschland
CATEGORIES:Englisch
ORGANIZER;CN="Susanne Zweibr%C3%BCck":MAILTO:Susanne.Zweibrueck@gmx.net
END:VEVENT
BEGIN:VEVENT
DTSTART;TZID=Europe/Berlin:20221206T180000
DTEND;TZID=Europe/Berlin:20221206T193000
DTSTAMP:20260420T104455
CREATED:20220916T133025Z
LAST-MODIFIED:20220916T133025Z
UID:10002789-1670349600-1670355000@www.kulturkreis-lintelner-geest.de
SUMMARY:Englisch-Kurs "Refresh Your English"
DESCRIPTION:Englisch-Kurs „Refresh Your English“\nDer Englisch-Kurs richtet sich an Teilnehmer:Innen\, die zwar mal Englisch gelernt hatten\, deren Kenntnisse aber „verschüttet“ sind. Wir lernen zunächst die wichtigsten Basiswörter und etwas Grammatik. Sprechen und Hörenverstehen stehen im Mittelpunkt. \nLos geht‘s am Dienstag\, 11. Oktober\, 18:00-19:30 Uhr.\nGrundkenntnisse sollten vorhanden sein. \nKosten: 5-6 TN: 125€ | 7-10 TN: 110€ (10 Termine) \nWeitere Informationen und Anmeldung bei\nSusanne Zweibrück | Telefon: 04237 / 510 oder\nSusanne.Zweibrueck@gmx.net \n 
URL:https://www.kulturkreis-lintelner-geest.de/event/englisch-kurs-refresh-your-english-7/
LOCATION:Müllerhaus\, Schmomühlener Straße 9\, Brunsbrock\, 27308\, Deutschland
CATEGORIES:Englisch
ORGANIZER;CN="Susanne Zweibr%C3%BCck":MAILTO:Susanne.Zweibrueck@gmx.net
END:VEVENT
BEGIN:VEVENT
DTSTART;TZID=Europe/Berlin:20221129T180000
DTEND;TZID=Europe/Berlin:20221129T193000
DTSTAMP:20260420T104455
CREATED:20220916T132807Z
LAST-MODIFIED:20220916T132807Z
UID:10002787-1669744800-1669750200@www.kulturkreis-lintelner-geest.de
SUMMARY:Englisch-Kurs "Refresh Your English"
DESCRIPTION:Englisch-Kurs „Refresh Your English“\nDer Englisch-Kurs richtet sich an Teilnehmer:Innen\, die zwar mal Englisch gelernt hatten\, deren Kenntnisse aber „verschüttet“ sind. Wir lernen zunächst die wichtigsten Basiswörter und etwas Grammatik. Sprechen und Hörenverstehen stehen im Mittelpunkt. \nLos geht‘s am Dienstag\, 11. Oktober\, 18:00-19:30 Uhr.\nGrundkenntnisse sollten vorhanden sein. \nKosten: 5-6 TN: 125€ | 7-10 TN: 110€ (10 Termine) \nWeitere Informationen und Anmeldung bei\nSusanne Zweibrück | Telefon: 04237 / 510 oder\nSusanne.Zweibrueck@gmx.net \n 
URL:https://www.kulturkreis-lintelner-geest.de/event/englisch-kurs-refresh-your-english-5/
LOCATION:Müllerhaus\, Schmomühlener Straße 9\, Brunsbrock\, 27308\, Deutschland
CATEGORIES:Englisch
ORGANIZER;CN="Susanne Zweibr%C3%BCck":MAILTO:Susanne.Zweibrueck@gmx.net
END:VEVENT
BEGIN:VEVENT
DTSTART;TZID=Europe/Berlin:20221122T180000
DTEND;TZID=Europe/Berlin:20221122T193000
DTSTAMP:20260420T104455
CREATED:20220916T132903Z
LAST-MODIFIED:20220916T132903Z
UID:10002788-1669140000-1669145400@www.kulturkreis-lintelner-geest.de
SUMMARY:Englisch-Kurs "Refresh Your English"
DESCRIPTION:Englisch-Kurs „Refresh Your English“\nDer Englisch-Kurs richtet sich an Teilnehmer:Innen\, die zwar mal Englisch gelernt hatten\, deren Kenntnisse aber „verschüttet“ sind. Wir lernen zunächst die wichtigsten Basiswörter und etwas Grammatik. Sprechen und Hörenverstehen stehen im Mittelpunkt. \nLos geht‘s am Dienstag\, 11. Oktober\, 18:00-19:30 Uhr.\nGrundkenntnisse sollten vorhanden sein. \nKosten: 5-6 TN: 125€ | 7-10 TN: 110€ (10 Termine) \nWeitere Informationen und Anmeldung bei\nSusanne Zweibrück | Telefon: 04237 / 510 oder\nSusanne.Zweibrueck@gmx.net \n 
URL:https://www.kulturkreis-lintelner-geest.de/event/englisch-kurs-refresh-your-english-6/
LOCATION:Müllerhaus\, Schmomühlener Straße 9\, Brunsbrock\, 27308\, Deutschland
CATEGORIES:Englisch
ORGANIZER;CN="Susanne Zweibr%C3%BCck":MAILTO:Susanne.Zweibrueck@gmx.net
END:VEVENT
BEGIN:VEVENT
DTSTART;TZID=Europe/Berlin:20221115T180000
DTEND;TZID=Europe/Berlin:20221115T193000
DTSTAMP:20260420T104455
CREATED:20220916T132525Z
LAST-MODIFIED:20220916T132525Z
UID:10002785-1668535200-1668540600@www.kulturkreis-lintelner-geest.de
SUMMARY:Englisch-Kurs "Refresh Your English"
DESCRIPTION:Englisch-Kurs „Refresh Your English“\nDer Englisch-Kurs richtet sich an Teilnehmer:Innen\, die zwar mal Englisch gelernt hatten\, deren Kenntnisse aber „verschüttet“ sind. Wir lernen zunächst die wichtigsten Basiswörter und etwas Grammatik. Sprechen und Hörenverstehen stehen im Mittelpunkt. \nLos geht‘s am Dienstag\, 11. Oktober\, 18:00-19:30 Uhr.\nGrundkenntnisse sollten vorhanden sein. \nKosten: 5-6 TN: 125€ | 7-10 TN: 110€ (10 Termine) \nWeitere Informationen und Anmeldung bei\nSusanne Zweibrück | Telefon: 04237 / 510 oder\nSusanne.Zweibrueck@gmx.net \n 
URL:https://www.kulturkreis-lintelner-geest.de/event/englisch-kurs-refresh-your-english-3/
LOCATION:Müllerhaus\, Schmomühlener Straße 9\, Brunsbrock\, 27308\, Deutschland
CATEGORIES:Englisch
ORGANIZER;CN="Susanne Zweibr%C3%BCck":MAILTO:Susanne.Zweibrueck@gmx.net
END:VEVENT
BEGIN:VEVENT
DTSTART;TZID=Europe/Berlin:20221108T180000
DTEND;TZID=Europe/Berlin:20221108T193000
DTSTAMP:20260420T104455
CREATED:20220916T132609Z
LAST-MODIFIED:20220916T132641Z
UID:10002786-1667930400-1667935800@www.kulturkreis-lintelner-geest.de
SUMMARY:Englisch-Kurs "Refresh Your English"
DESCRIPTION:Englisch-Kurs „Refresh Your English“\nDer Englisch-Kurs richtet sich an Teilnehmer:Innen\, die zwar mal Englisch gelernt hatten\, deren Kenntnisse aber „verschüttet“ sind. Wir lernen zunächst die wichtigsten Basiswörter und etwas Grammatik. Sprechen und Hörenverstehen stehen im Mittelpunkt. \nLos geht‘s am Dienstag\, 11. Oktober\, 18:00-19:30 Uhr.\nGrundkenntnisse sollten vorhanden sein. \nKosten: 5-6 TN: 125€ | 7-10 TN: 110€ (10 Termine) \nWeitere Informationen und Anmeldung bei\nSusanne Zweibrück | Telefon: 04237 / 510 oder\nSusanne.Zweibrueck@gmx.net \n 
URL:https://www.kulturkreis-lintelner-geest.de/event/englisch-kurs-refresh-your-english-4/
LOCATION:Müllerhaus\, Schmomühlener Straße 9\, Brunsbrock\, 27308\, Deutschland
CATEGORIES:Englisch
ORGANIZER;CN="Susanne Zweibr%C3%BCck":MAILTO:Susanne.Zweibrueck@gmx.net
END:VEVENT
BEGIN:VEVENT
DTSTART;TZID=Europe/Berlin:20221101T180000
DTEND;TZID=Europe/Berlin:20221101T193000
DTSTAMP:20260420T104455
CREATED:20220916T132429Z
LAST-MODIFIED:20220916T132429Z
UID:10002784-1667325600-1667331000@www.kulturkreis-lintelner-geest.de
SUMMARY:Englisch-Kurs "Refresh Your English"
DESCRIPTION:Englisch-Kurs „Refresh Your English“\nDer Englisch-Kurs richtet sich an Teilnehmer:Innen\, die zwar mal Englisch gelernt hatten\, deren Kenntnisse aber „verschüttet“ sind. Wir lernen zunächst die wichtigsten Basiswörter und etwas Grammatik. Sprechen und Hörenverstehen stehen im Mittelpunkt. \nLos geht‘s am Dienstag\, 11. Oktober\, 18:00-19:30 Uhr.\nGrundkenntnisse sollten vorhanden sein. \nKosten: 5-6 TN: 125€ | 7-10 TN: 110€ (10 Termine) \nWeitere Informationen und Anmeldung bei\nSusanne Zweibrück | Telefon: 04237 / 510 oder\nSusanne.Zweibrueck@gmx.net \n 
URL:https://www.kulturkreis-lintelner-geest.de/event/englisch-kurs-refresh-your-english-2/
LOCATION:Müllerhaus\, Schmomühlener Straße 9\, Brunsbrock\, 27308\, Deutschland
CATEGORIES:Englisch
ORGANIZER;CN="Susanne Zweibr%C3%BCck":MAILTO:Susanne.Zweibrueck@gmx.net
END:VEVENT
BEGIN:VEVENT
DTSTART;TZID=Europe/Berlin:20221025T180000
DTEND;TZID=Europe/Berlin:20221025T193000
DTSTAMP:20260420T104455
CREATED:20220805T112408Z
LAST-MODIFIED:20220805T112408Z
UID:10002342-1666720800-1666726200@www.kulturkreis-lintelner-geest.de
SUMMARY:Englisch-Kurs "Refresh Your English"
DESCRIPTION:Englisch-Kurs „Refresh Your English“\nDer Englisch-Kurs richtet sich an Teilnehmer:Innen\, die zwar mal Englisch gelernt hatten\, deren Kenntnisse aber „verschüttet“ sind. Wir lernen zunächst die wichtigsten Basiswörter und etwas Grammatik. Sprechen und Hörenverstehen stehen im Mittelpunkt. \nLos geht‘s am Dienstag\, 11. Oktober\, 18:00-19:30 Uhr.\nGrundkenntnisse sollten vorhanden sein. \nKosten: 5-6 TN: 125€ | 7-10 TN: 110€ (10 Termine) \nWeitere Informationen und Anmeldung bei\nSusanne Zweibrück | Telefon: 04237 / 510 oder\nSusanne.Zweibrueck@gmx.net \n 
URL:https://www.kulturkreis-lintelner-geest.de/event/englisch-kurs-refresh-your-english/
LOCATION:Müllerhaus\, Schmomühlener Straße 9\, Brunsbrock\, 27308\, Deutschland
CATEGORIES:Englisch,Kurse & Seminare
ORGANIZER;CN="Susanne Zweibr%C3%BCck":MAILTO:Susanne.Zweibrueck@gmx.net
END:VEVENT
BEGIN:VEVENT
DTSTART;TZID=Europe/Berlin:20221018T180000
DTEND;TZID=Europe/Berlin:20221018T193000
DTSTAMP:20260420T104455
CREATED:20220805T112311Z
LAST-MODIFIED:20220805T112311Z
UID:10002340-1666116000-1666121400@www.kulturkreis-lintelner-geest.de
SUMMARY:Englisch "Refresh Your Englisch"
DESCRIPTION:Englisch-Kurs „Refresh Your English“\nDer Englisch-Kurs richtet sich an Teilnehmer:Innen\, die zwar mal Englisch gelernt hatten\, deren Kenntnisse aber „verschüttet“ sind. Wir lernen zunächst die wichtigsten Basiswörter und etwas Grammatik. Sprechen und Hörenverstehen stehen im Mittelpunkt. \nLos geht‘s am Dienstag\, 11. Oktober\, 18:00-19:30 Uhr.\nGrundkenntnisse sollten vorhanden sein. \nKosten: 5-6 TN: 125€ | 7-10 TN: 110€ (10 Termine) \nWeitere Informationen und Anmeldung bei\nSusanne Zweibrück | Telefon: 04237 / 510 oder\nSusanne.Zweibrueck@gmx.net \n 
URL:https://www.kulturkreis-lintelner-geest.de/event/englisch-refresh-your-englisch/
LOCATION:Müllerhaus\, Schmomühlener Straße 9\, Brunsbrock\, 27308\, Deutschland
CATEGORIES:Englisch,Kurse & Seminare
ORGANIZER;CN="Susanne Zweibr%C3%BCck":MAILTO:Susanne.Zweibrueck@gmx.net
END:VEVENT
BEGIN:VEVENT
DTSTART;TZID=Europe/Berlin:20221011T180000
DTEND;TZID=Europe/Berlin:20221011T193000
DTSTAMP:20260420T104455
CREATED:20220805T112159Z
LAST-MODIFIED:20220805T112215Z
UID:10002339-1665511200-1665516600@www.kulturkreis-lintelner-geest.de
SUMMARY:Englisch "Refresh Your English"
DESCRIPTION:Englisch-Kurs „Refresh Your English“\nDer Englisch-Kurs richtet sich an Teilnehmer:Innen\, die zwar mal Englisch gelernt hatten\, deren Kenntnisse aber „verschüttet“ sind. Wir lernen zunächst die wichtigsten Basiswörter und etwas Grammatik. Sprechen und Hörenverstehen stehen im Mittelpunkt. \nLos geht‘s am Dienstag\, 11. Oktober\, 18:00-19:30 Uhr.\nGrundkenntnisse sollten vorhanden sein. \nKosten: 5-6 TN: 125€ | 7-10 TN: 110€ (10 Termine) \nWeitere Informationen und Anmeldung bei\nSusanne Zweibrück | Telefon: 04237 / 510 oder\nSusanne.Zweibrueck@gmx.net \n 
URL:https://www.kulturkreis-lintelner-geest.de/event/englisch-refresh-your-english/
LOCATION:Müllerhaus\, Schmomühlener Straße 9\, Brunsbrock\, 27308\, Deutschland
CATEGORIES:Kurse & Seminare
ORGANIZER;CN="Susanne Zweibr%C3%BCck":MAILTO:Susanne.Zweibrueck@gmx.net
END:VEVENT
END:VCALENDAR