BEGIN:VCALENDAR
VERSION:2.0
PRODID:-//Kulturkreis Lintelner Geest e. V. - ECPv6.15.20//NONSGML v1.0//EN
CALSCALE:GREGORIAN
METHOD:PUBLISH
X-WR-CALNAME:Kulturkreis Lintelner Geest e. V.
X-ORIGINAL-URL:https://www.kulturkreis-lintelner-geest.de
X-WR-CALDESC:Veranstaltungen für Kulturkreis Lintelner Geest e. V.
REFRESH-INTERVAL;VALUE=DURATION:PT1H
X-Robots-Tag:noindex
X-PUBLISHED-TTL:PT1H
BEGIN:VTIMEZONE
TZID:Europe/Berlin
BEGIN:DAYLIGHT
TZOFFSETFROM:+0100
TZOFFSETTO:+0200
TZNAME:CEST
DTSTART:20150329T010000
END:DAYLIGHT
BEGIN:STANDARD
TZOFFSETFROM:+0200
TZOFFSETTO:+0100
TZNAME:CET
DTSTART:20151025T010000
END:STANDARD
BEGIN:DAYLIGHT
TZOFFSETFROM:+0100
TZOFFSETTO:+0200
TZNAME:CEST
DTSTART:20160327T010000
END:DAYLIGHT
BEGIN:STANDARD
TZOFFSETFROM:+0200
TZOFFSETTO:+0100
TZNAME:CET
DTSTART:20161030T010000
END:STANDARD
BEGIN:DAYLIGHT
TZOFFSETFROM:+0100
TZOFFSETTO:+0200
TZNAME:CEST
DTSTART:20170326T010000
END:DAYLIGHT
BEGIN:STANDARD
TZOFFSETFROM:+0200
TZOFFSETTO:+0100
TZNAME:CET
DTSTART:20171029T010000
END:STANDARD
BEGIN:DAYLIGHT
TZOFFSETFROM:+0100
TZOFFSETTO:+0200
TZNAME:CEST
DTSTART:20180325T010000
END:DAYLIGHT
BEGIN:STANDARD
TZOFFSETFROM:+0200
TZOFFSETTO:+0100
TZNAME:CET
DTSTART:20181028T010000
END:STANDARD
BEGIN:DAYLIGHT
TZOFFSETFROM:+0100
TZOFFSETTO:+0200
TZNAME:CEST
DTSTART:20190331T010000
END:DAYLIGHT
BEGIN:STANDARD
TZOFFSETFROM:+0200
TZOFFSETTO:+0100
TZNAME:CET
DTSTART:20191027T010000
END:STANDARD
BEGIN:DAYLIGHT
TZOFFSETFROM:+0100
TZOFFSETTO:+0200
TZNAME:CEST
DTSTART:20200329T010000
END:DAYLIGHT
BEGIN:STANDARD
TZOFFSETFROM:+0200
TZOFFSETTO:+0100
TZNAME:CET
DTSTART:20201025T010000
END:STANDARD
BEGIN:DAYLIGHT
TZOFFSETFROM:+0100
TZOFFSETTO:+0200
TZNAME:CEST
DTSTART:20210328T010000
END:DAYLIGHT
BEGIN:STANDARD
TZOFFSETFROM:+0200
TZOFFSETTO:+0100
TZNAME:CET
DTSTART:20211031T010000
END:STANDARD
BEGIN:DAYLIGHT
TZOFFSETFROM:+0100
TZOFFSETTO:+0200
TZNAME:CEST
DTSTART:20220327T010000
END:DAYLIGHT
BEGIN:STANDARD
TZOFFSETFROM:+0200
TZOFFSETTO:+0100
TZNAME:CET
DTSTART:20221030T010000
END:STANDARD
BEGIN:DAYLIGHT
TZOFFSETFROM:+0100
TZOFFSETTO:+0200
TZNAME:CEST
DTSTART:20230326T010000
END:DAYLIGHT
BEGIN:STANDARD
TZOFFSETFROM:+0200
TZOFFSETTO:+0100
TZNAME:CET
DTSTART:20231029T010000
END:STANDARD
END:VTIMEZONE
BEGIN:VEVENT
DTSTART;TZID=Europe/Berlin:20220606T110000
DTEND;TZID=Europe/Berlin:20220606T170000
DTSTAMP:20260421T103003
CREATED:20220402T173131Z
LAST-MODIFIED:20220501T165025Z
UID:10002721-1654513200-1654534800@www.kulturkreis-lintelner-geest.de
SUMMARY:Pfingstmarkt (Kunsthandwerkmarkt und Bücherflohmarkt)
DESCRIPTION:Da der Frühlings- und Ostermarkt in diesem Jahr wieder ausfallen musste\, haben wir uns entschlossen\, Pfingstmontag einen kleinen Kunsthandwerkermarkt nach dem bewährten Konzept zu veranstalten. Wie der Ostermarkt wird er wieder in bewährter Manier von Jutta Martens organisiert. \nAuf dem schönen Außengelände\, unter der Remise\, in der Scheune (mit neuem Dach) und auf der großen Diele des Müllerhauses präsentieren Hobbykünstler aus der Region ihre kreativen Produkte: Karten\, Floristik\, Genähtes\, Keramik\, Moosgummi-Bilder\, Fotobücher\, Strümpfe\, Glasperlenschmuck und Mineralien\, Kräuter- und Körnerkissen\, Stofftiere\, Taschen\, Gartenfiguren\, Hufeisenstecker\, Weckglasdesign\, Marmelade\, Honig\, Pralinen\, Wurstwaren & mehr \nIn der Bücherstube des Müllerhauses findet gleichzeitig ein Bücherflohmarkt statt. Dort kann nach Herzenslust in den zahlreichen Büchern gestöbert werden. \nFür das leibliche Wohl ist gesorgt: Kaffee und selbstgebackene Kuchen sowie Rinder-Bratwurst. \nDie Aussteller und das Team des Kulturkreises Lintelner Geest freuen sich von 11:00 – 17:00 Uhr auf viele Besucher. \n 
URL:https://www.kulturkreis-lintelner-geest.de/event/kunsthandwerkermarkt/
LOCATION:Müllerhaus\, Schmomühlener Straße 9\, Brunsbrock\, 27308\, Deutschland
CATEGORIES:Veranstaltungen
ORGANIZER;CN="Osterbasar":MAILTO:jutta.martens20[ät]gmail.com
END:VEVENT
BEGIN:VEVENT
DTSTART;TZID=Europe/Berlin:20220327T110000
DTEND;TZID=Europe/Berlin:20220327T170000
DTSTAMP:20260421T103003
CREATED:20211025T144018Z
LAST-MODIFIED:20220213T100948Z
UID:10002680-1648378800-1648400400@www.kulturkreis-lintelner-geest.de
SUMMARY:Frühlings- und Ostermarkt (fällt aus)
DESCRIPTION:  \nLeider müssen wir auch in diesem Jahr den Ostermarkt absagen\, da die aktuelle Corona-Lage eine Durchführung nicht erlaubt. \nKreative Künstler und Kunsthandwerker stellen im Müllerhaus in Brunsbrock ihre Arbeiten und Werke aus. Die Aussteller stammen vorwiegend aus der Gemeinde Kirchlinteln und der Umgebung. \nEs werden viele unterschiedliche Dinge wie z.B. Pralinen\, Likör\, Marmelade\, Honig\, Papierarbeiten\, Seife\, Naturkosmetik\, Wohlfühlkissen\, Schmuck\, Näharbeiten\, Floristik\, Holzarbeiten\, Gartendekorationen\, Keramik\, Körbe- und Stuhlflechten und mehr angeboten. Unsere Hobbys sind kreativ und bunt. Es gibt vieles zum Entdecken\, Testen oder Ausprobieren. Bestimmt findet sich so manches Schönes für das Osterfest. \nWir Aussteller freuen uns auf Ihren Besuch und auf viele schöne Gespräche mit Ihnen. \nFür das leibliche Wohl ist mit Kaffee\, Kuchen und Suppen gesorgt.\nDie Veranstaltung ist von 11:00 bis 17:00 Uhr geöffnet. Der Eintritt ist frei.
URL:https://www.kulturkreis-lintelner-geest.de/event/fruehlings-und-ostermarkt-5/
LOCATION:Müllerhaus\, Schmomühlener Straße 9\, Brunsbrock\, 27308\, Deutschland
CATEGORIES:Veranstaltungen
ORGANIZER;CN="Osterbasar":MAILTO:jutta.martens20[ät]gmail.com
END:VEVENT
BEGIN:VEVENT
DTSTART;TZID=Europe/Berlin:20210314T110000
DTEND;TZID=Europe/Berlin:20210314T170000
DTSTAMP:20260421T103003
CREATED:20201021T092201Z
LAST-MODIFIED:20210309T085036Z
UID:10002541-1615719600-1615741200@www.kulturkreis-lintelner-geest.de
SUMMARY:Frühlings- und Ostermarkt (abgesagt)
DESCRIPTION:Kreative Künstler und Kunsthandwerker stellen im Müllerhaus in Brunsbrock ihre Arbeiten und Werke aus. Die Aussteller stammen vorwiegend aus der Gemeinde Kirchlinteln und der Umgebung. \nEs werden viele unterschiedliche Dinge wie z.B. Pralinen\, Likör\, Marmelade\, Honig\, Papierarbeiten\, Seife\, Naturkosmetik\, Wohlfühlkissen\, Schmuck\, Näharbeiten\, Floristik\, Holzarbeiten\, Gartendekorationen\, Keramik\, Körbe- und Stuhlflechten und mehr angeboten. Unsere Hobbys sind kreativ und bunt. Es gibt vieles zum Entdecken\, Testen oder Ausprobieren. Bestimmt findet sich so manches Schönes für das Osterfest. \nWir Aussteller freuen uns auf Ihren Besuch und auf viele schöne Gespräche mit Ihnen. \nFür das leibliche Wohl ist mit Kaffee\, Kuchen und Suppen gesorgt.\nDie Veranstaltung ist von 11:00 bis 17:00 Uhr geöffnet. Der Eintritt ist frei.
URL:https://www.kulturkreis-lintelner-geest.de/event/fruehlings-und-ostermarkt-4/
LOCATION:Müllerhaus\, Schmomühlener Straße 9\, Brunsbrock\, 27308\, Deutschland
CATEGORIES:Veranstaltungen
ORGANIZER;CN="Osterbasar":MAILTO:jutta.martens20[ät]gmail.com
END:VEVENT
BEGIN:VEVENT
DTSTART;TZID=Europe/Berlin:20200322T110000
DTEND;TZID=Europe/Berlin:20200322T110000
DTSTAMP:20260421T103003
CREATED:20190827T073436Z
LAST-MODIFIED:20200313T184957Z
UID:10002422-1584874800-1584874800@www.kulturkreis-lintelner-geest.de
SUMMARY:Frühlings- und Ostermarkt / abgesagt!
DESCRIPTION:  \nLeider müssen wir diese Veranstaltung absagen\nDas Müllerhaus bleibt bis zum 19.04. geschlossen! \nDer von Jutta Martens organisierte Frühlings- und Ostermarkt hat sich als feste Größe im Müllerhaus etabliert. Beim ersten Markt waren es gerade mal acht Ausstellern. Im letzten Jahr waren es schon 20. Die kreativen Künstler und Kunsthandwerker stammen vorwiegend aus der Gemeinde Kirchlinteln und der Umgebung. \nIn den Räumen des historischen Müllerhauses aber auch auf dem Außengelände können die Besucher abwechslungsreiche Produkte bestaunen: Pralinen\, Marmelade\, Honig\, handbemalte Ostereier\, Karten\, Fensterbilder\, Papierarbeiten\, Seifen\, Duft- und Wohlfühlkissen\, Schmuck\, Näharbeiten\, Floristik\, Holzarbeiten\, Gartendekorationen\, Keramik\, Körbe- und Stuhlflechte. Es gibt vieles zum Entdecken\, Testen oder Ausprobieren. Wir Aussteller freuen uns auf Ihren Besuch und auf viele schöne Gespräche mit Ihnen. \nFür das leibliche Wohl ist mit Kaffee\, Kuchen und Suppen gesorgt.\nDie Veranstaltung ist von 11:00 bis 17:00 Uhr geöffnet. Der Eintritt ist frei.
URL:https://www.kulturkreis-lintelner-geest.de/event/fruehlings-und-ostermarkt-3/
LOCATION:Müllerhaus\, Schmomühlener Straße 9\, Brunsbrock\, 27308\, Deutschland
CATEGORIES:Veranstaltungen
ORGANIZER;CN="Osterbasar":MAILTO:jutta.martens20[ät]gmail.com
END:VEVENT
BEGIN:VEVENT
DTSTART;TZID=Europe/Berlin:20190331T110000
DTEND;TZID=Europe/Berlin:20190331T170000
DTSTAMP:20260421T103003
CREATED:20181030T201215Z
LAST-MODIFIED:20181030T201215Z
UID:10002241-1554030000-1554051600@www.kulturkreis-lintelner-geest.de
SUMMARY:Frühlings- und Ostermarkt
DESCRIPTION:Kreative Künstler und Kunsthandwerker stellen im Müllerhaus in Brunsbrock ihre Arbeiten und Werke aus. Die Aussteller stammen vorwiegend aus der Gemeinde Kirchlinteln und der Umgebung. \nEs werden viele unterschiedliche Dinge wie z.B. Pralinen\, Likör\, Marmelade\, Honig\, Papierarbeiten\, Seife\, Naturkosmetik\, Wohlfühlkissen\, Schmuck\, Näharbeiten\, Floristik\, Holzarbeiten\, Gartendekorationen\, Keramik\, Körbe- und Stuhlflechten und mehr angeboten. Unsere Hobbys sind kreativ und bunt. Es gibt vieles zum Entdecken\, Testen oder Ausprobieren. Bestimmt findet sich so manches Schönes für das Osterfest. \nWir Aussteller freuen uns auf Ihren Besuch und auf viele schöne Gespräche mit Ihnen. \nFür das leibliche Wohl ist mit Kaffee\, Kuchen und Suppen gesorgt.\nDie Veranstaltung ist von 11:00 bis 17:00 Uhr geöffnet. Der Eintritt ist frei.
URL:https://www.kulturkreis-lintelner-geest.de/event/fruehlings-und-ostermarkt-2/
LOCATION:Müllerhaus\, Schmomühlener Straße 9\, Brunsbrock\, 27308\, Deutschland
CATEGORIES:Veranstaltungen
ORGANIZER;CN="Osterbasar":MAILTO:jutta.martens20[ät]gmail.com
END:VEVENT
BEGIN:VEVENT
DTSTART;TZID=Europe/Berlin:20180311T110000
DTEND;TZID=Europe/Berlin:20180311T170000
DTSTAMP:20260421T103003
CREATED:20170418T093347Z
LAST-MODIFIED:20171210T165812Z
UID:10001910-1520766000-1520787600@www.kulturkreis-lintelner-geest.de
SUMMARY:Frühlings- und Ostermarkt
DESCRIPTION:Kreative Künstler und Kunsthandwerker stellen im Müllerhaus in Brunsbrock ihre Arbeiten und Werke aus. Die Aussteller stammen vorwiegend aus der Gemeinde Kirchlinteln und der Umgebung. \nEs werden viele unterschiedliche Dinge wie z.B. Pralinen\, Likör\, Marmelade\, Honig\, Papierarbeiten\, Seife\, Naturkosmetik\, Wohlfühlkissen\, Schmuck\, Näharbeiten\, Floristik\, Holzarbeiten\, Gartendekorationen\, Keramik\, Körbe- und Stuhlflechten und mehr angeboten. Unsere Hobbys sind kreativ und bunt. Es gibt vieles zum Entdecken\, Testen oder Ausprobieren. Bestimmt findet sich so manches Schönes für das Oserfest. \nWir Aussteller freuen uns auf Ihren Besuch und auf viele schöne Gespräche mit Ihnen. \nFür das leibliche Wohl ist mit Kaffee\, Kuchen und Suppen gesorgt.\nDie Veranstaltung ist von 11:00 bis 17:00 Uhr geöffnet. Der Eintritt ist frei.
URL:https://www.kulturkreis-lintelner-geest.de/event/ostermarkt/
CATEGORIES:Veranstaltungen
ORGANIZER;CN="Osterbasar":MAILTO:jutta.martens20[ät]gmail.com
END:VEVENT
BEGIN:VEVENT
DTSTART;TZID=Europe/Berlin:20160306T110000
DTEND;TZID=Europe/Berlin:20160306T170000
DTSTAMP:20260421T103003
CREATED:20160106T174118Z
LAST-MODIFIED:20160125T075830Z
UID:10001547-1457262000-1457283600@www.kulturkreis-lintelner-geest.de
SUMMARY:Frühlings- und Ostermarkt
DESCRIPTION:  \nKreative Künstler und Kunsthandwerker stellen im Müllerhaus in Brunsbrock ihre Arbeiten und Werke aus. Die Aussteller stammen vorwiegend aus der Gemeinde Kirchlinteln und der Umgebung. \nEs werden viele unterschiedliche Dinge wie z.B. Pralinen\, Likör\, Marmelade\, Honig\, Papierarbeiten\, Seife\, Naturkosmetik\, Wohlfühlkissen\, Schmuck\, Näharbeiten\, Floristik\, Holzarbeiten\, Gartendekorationen\, Keramik\, Körbe- und Stuhlflechten und mehr angeboten. Unsere Hobbys sind kreativ und bunt. Es gibt vieles zum Entdecken\, Testen oder Ausprobieren. Bestimmt findet sich so manches Schönes für das Oserfest. \nWir Aussteller freuen uns auf Ihren Besuch und auf viele schöne Gespräche mit Ihnen. \nFür das leibliche Wohl ist mit Kaffee\, Kuchen und Suppen gesorgt.\nDie Veranstaltung ist von 11:00 bis 17:00 Uhr geöffnet. Der Eintritt ist frei.
URL:https://www.kulturkreis-lintelner-geest.de/event/osterbasar/
LOCATION:Müllerhaus Brunsbrock\, Schmomühlener Straße 9\, Kirchlinteln/Brunsbrock\, 27308\, Deutschland
CATEGORIES:Veranstaltungen
ORGANIZER;CN="Osterbasar":MAILTO:jutta.martens20[ät]gmail.com
GEO:52.9563097;9.3787651
X-APPLE-STRUCTURED-LOCATION;VALUE=URI;X-ADDRESS=Müllerhaus Brunsbrock Schmomühlener Straße 9 Kirchlinteln/Brunsbrock 27308 Deutschland;X-APPLE-RADIUS=500;X-TITLE=Schmomühlener Straße 9:geo:9.3787651,52.9563097
END:VEVENT
END:VCALENDAR