BEGIN:VCALENDAR
VERSION:2.0
PRODID:-//Kulturkreis Lintelner Geest e. V. - ECPv6.15.20//NONSGML v1.0//EN
CALSCALE:GREGORIAN
METHOD:PUBLISH
X-WR-CALNAME:Kulturkreis Lintelner Geest e. V.
X-ORIGINAL-URL:https://www.kulturkreis-lintelner-geest.de
X-WR-CALDESC:Veranstaltungen für Kulturkreis Lintelner Geest e. V.
REFRESH-INTERVAL;VALUE=DURATION:PT1H
X-Robots-Tag:noindex
X-PUBLISHED-TTL:PT1H
BEGIN:VTIMEZONE
TZID:Europe/Berlin
BEGIN:DAYLIGHT
TZOFFSETFROM:+0100
TZOFFSETTO:+0200
TZNAME:CEST
DTSTART:20150329T010000
END:DAYLIGHT
BEGIN:STANDARD
TZOFFSETFROM:+0200
TZOFFSETTO:+0100
TZNAME:CET
DTSTART:20151025T010000
END:STANDARD
BEGIN:DAYLIGHT
TZOFFSETFROM:+0100
TZOFFSETTO:+0200
TZNAME:CEST
DTSTART:20160327T010000
END:DAYLIGHT
BEGIN:STANDARD
TZOFFSETFROM:+0200
TZOFFSETTO:+0100
TZNAME:CET
DTSTART:20161030T010000
END:STANDARD
BEGIN:DAYLIGHT
TZOFFSETFROM:+0100
TZOFFSETTO:+0200
TZNAME:CEST
DTSTART:20170326T010000
END:DAYLIGHT
BEGIN:STANDARD
TZOFFSETFROM:+0200
TZOFFSETTO:+0100
TZNAME:CET
DTSTART:20171029T010000
END:STANDARD
END:VTIMEZONE
BEGIN:VEVENT
DTSTART;TZID=Europe/Berlin:20161118T193000
DTEND;TZID=Europe/Berlin:20161118T210000
DTSTAMP:20260420T134131
CREATED:20161012T164616Z
LAST-MODIFIED:20161012T164616Z
UID:10001774-1479497400-1479502800@www.kulturkreis-lintelner-geest.de
SUMMARY:Energie-Basenkur
DESCRIPTION:Diese einwöchige Kur bietet die optimale Gelegenheit\, den Körper vor der kalten Jahreszeit von Unrat und angestautem Säuremüll zu befreien. Ohne zu hungern kann man durch leckere\, basische Kost die Zellen auf sanfte Weise entsäuren. Das Bindegewebe wird wieder straffer und das Hautbild verfeinert sich. Ein weiterer positiver Nebeneffekt ist die mögliche Gewichtsabnahme von bis zu 3 kg. Es kann sich eine neue Leichtigkeit und ein enormer Zuwachs an Energie einstellen. \nWeitere interessante Inhalte sind das angeleitete Erlernen der Lymphselbstmassage\, entlastende Bewegungsübungen für Darm\, Leber und Nieren sowie wohltuende Atem- und Entspannungsübungen. \nKursbeginn: Freitag\, 11.11.2016 um 19.30 Uhr (weitere Termine folgen am Dienstag\, 15.11.2016 und Freitag\, 18.11.2016\, jeweils in der Zeit von 19.30 – 21.00 Uhr) \nKursgebühr: 65\,- Euro (incl. Infomappe mit leckeren Rezepten und wertvollen Tipps)
URL:https://www.kulturkreis-lintelner-geest.de/event/energie-basenkur-3/
LOCATION:Müllerhaus Brunsbrock\, Schmomühlener Straße 9\, Kirchlinteln/Brunsbrock\, 27308\, Deutschland
CATEGORIES:Gesundheit,Kurse & Seminare
ORGANIZER;CN="Meike Radzeweit":MAILTO:info[at]radzeweit.de
GEO:52.9563097;9.3787651
X-APPLE-STRUCTURED-LOCATION;VALUE=URI;X-ADDRESS=Müllerhaus Brunsbrock Schmomühlener Straße 9 Kirchlinteln/Brunsbrock 27308 Deutschland;X-APPLE-RADIUS=500;X-TITLE=Schmomühlener Straße 9:geo:9.3787651,52.9563097
END:VEVENT
BEGIN:VEVENT
DTSTART;TZID=Europe/Berlin:20161115T193000
DTEND;TZID=Europe/Berlin:20161115T210000
DTSTAMP:20260420T134131
CREATED:20161012T164530Z
LAST-MODIFIED:20161012T164530Z
UID:10001773-1479238200-1479243600@www.kulturkreis-lintelner-geest.de
SUMMARY:Energie-Basenkur
DESCRIPTION:Diese einwöchige Kur bietet die optimale Gelegenheit\, den Körper vor der kalten Jahreszeit von Unrat und angestautem Säuremüll zu befreien. Ohne zu hungern kann man durch leckere\, basische Kost die Zellen auf sanfte Weise entsäuren. Das Bindegewebe wird wieder straffer und das Hautbild verfeinert sich. Ein weiterer positiver Nebeneffekt ist die mögliche Gewichtsabnahme von bis zu 3 kg. Es kann sich eine neue Leichtigkeit und ein enormer Zuwachs an Energie einstellen. \nWeitere interessante Inhalte sind das angeleitete Erlernen der Lymphselbstmassage\, entlastende Bewegungsübungen für Darm\, Leber und Nieren sowie wohltuende Atem- und Entspannungsübungen. \nKursbeginn: Freitag\, 11.11.2016 um 19.30 Uhr (weitere Termine folgen am Dienstag\, 15.11.2016 und Freitag\, 18.11.2016\, jeweils in der Zeit von 19.30 – 21.00 Uhr) \nKursgebühr: 65\,- Euro (incl. Infomappe mit leckeren Rezepten und wertvollen Tipps)
URL:https://www.kulturkreis-lintelner-geest.de/event/energie-basenkur-2/
LOCATION:Müllerhaus Brunsbrock\, Schmomühlener Straße 9\, Kirchlinteln/Brunsbrock\, 27308\, Deutschland
CATEGORIES:Gesundheit,Kurse & Seminare
ORGANIZER;CN="Meike Radzeweit":MAILTO:info[at]radzeweit.de
GEO:52.9563097;9.3787651
X-APPLE-STRUCTURED-LOCATION;VALUE=URI;X-ADDRESS=Müllerhaus Brunsbrock Schmomühlener Straße 9 Kirchlinteln/Brunsbrock 27308 Deutschland;X-APPLE-RADIUS=500;X-TITLE=Schmomühlener Straße 9:geo:9.3787651,52.9563097
END:VEVENT
BEGIN:VEVENT
DTSTART;TZID=Europe/Berlin:20161111T193000
DTEND;TZID=Europe/Berlin:20161111T210000
DTSTAMP:20260420T134131
CREATED:20161012T164434Z
LAST-MODIFIED:20161012T164434Z
UID:10001772-1478892600-1478898000@www.kulturkreis-lintelner-geest.de
SUMMARY:Energie-Basenkur
DESCRIPTION:Diese einwöchige Kur bietet die optimale Gelegenheit\, den Körper vor der kalten Jahreszeit von Unrat und angestautem Säuremüll zu befreien. Ohne zu hungern kann man durch leckere\, basische Kost die Zellen auf sanfte Weise entsäuren. Das Bindegewebe wird wieder straffer und das Hautbild verfeinert sich. Ein weiterer positiver Nebeneffekt ist die mögliche Gewichtsabnahme von bis zu 3 kg. Es kann sich eine neue Leichtigkeit und ein enormer Zuwachs an Energie einstellen. \nWeitere interessante Inhalte sind das angeleitete Erlernen der Lymphselbstmassage\, entlastende Bewegungsübungen für Darm\, Leber und Nieren sowie wohltuende Atem- und Entspannungsübungen. \nKursbeginn: Freitag\, 11.11.2016 um 19.30 Uhr (weitere Termine folgen am Dienstag\, 15.11.2016 und Freitag\, 18.11.2016\, jeweils in der Zeit von 19.30 – 21.00 Uhr) \nKursgebühr: 65\,- Euro (incl. Infomappe mit leckeren Rezepten und wertvollen Tipps)
URL:https://www.kulturkreis-lintelner-geest.de/event/energie-basenkur/
LOCATION:Müllerhaus Brunsbrock\, Schmomühlener Straße 9\, Kirchlinteln/Brunsbrock\, 27308\, Deutschland
CATEGORIES:Gesundheit,Kurse & Seminare
ORGANIZER;CN="Meike Radzeweit":MAILTO:info[at]radzeweit.de
GEO:52.9563097;9.3787651
X-APPLE-STRUCTURED-LOCATION;VALUE=URI;X-ADDRESS=Müllerhaus Brunsbrock Schmomühlener Straße 9 Kirchlinteln/Brunsbrock 27308 Deutschland;X-APPLE-RADIUS=500;X-TITLE=Schmomühlener Straße 9:geo:9.3787651,52.9563097
END:VEVENT
BEGIN:VEVENT
DTSTART;TZID=Europe/Berlin:20160429T193000
DTEND;TZID=Europe/Berlin:20160429T210000
DTSTAMP:20260420T134131
CREATED:20160222T135302Z
LAST-MODIFIED:20160222T135302Z
UID:10001588-1461958200-1461963600@www.kulturkreis-lintelner-geest.de
SUMMARY:Energie-Basenkur im Frühling
DESCRIPTION:Diese einwöchige Kur bietet die optimale Gelegenheit\, den Körper nach der kalten Jahreszeit von Unrat und angestautem Säuremüll zu befreien. Ohne zu hungern kann man durch leckere\, basische Kost die Zellen auf sanfte Weise entsäuren. Das Bindegewebe wird wieder straffer und das Hautbild verfeinert sich. Ein weiterer positiver Nebeneffekt ist die mögliche Gewichtsabnahme von bis zu 3 kg. Es kann sich eine neue Leichtigkeit und ein enormer Zuwachs an Energie einstellen. \nWeitere interessante Inhalte sind das angeleitete Erlernen der Lymphselbstmassage\, entlastende Bewegungsübungen für Darm\, Leber und Nieren sowie wohltuende Atem- und Entspannungsübungen. \nKursbeginn: Freitag\, 22.04.2016 um 19.30 Uhr (weitere Termine folgen am Dienstag\, 26.04.2016 und Freitag\, 29.04.2016\, jeweils in der Zeit von 19.30 – 21.00 Uhr) \nKursgebühr: 65\,- Euro (incl. Infomappe mit leckeren Rezepten und wertvollen Tipps)
URL:https://www.kulturkreis-lintelner-geest.de/event/energie-basenkur-im-fruehling-2/
LOCATION:Müllerhaus Brunsbrock\, Schmomühlener Straße 9\, Kirchlinteln/Brunsbrock\, 27308\, Deutschland
CATEGORIES:Gesundheit,Kurse & Seminare
ORGANIZER;CN="Meike Radzeweit":MAILTO:info[at]radzeweit.de
GEO:52.9563097;9.3787651
X-APPLE-STRUCTURED-LOCATION;VALUE=URI;X-ADDRESS=Müllerhaus Brunsbrock Schmomühlener Straße 9 Kirchlinteln/Brunsbrock 27308 Deutschland;X-APPLE-RADIUS=500;X-TITLE=Schmomühlener Straße 9:geo:9.3787651,52.9563097
END:VEVENT
BEGIN:VEVENT
DTSTART;TZID=Europe/Berlin:20160426T193000
DTEND;TZID=Europe/Berlin:20160426T210000
DTSTAMP:20260420T134131
CREATED:20160222T135157Z
LAST-MODIFIED:20160222T135157Z
UID:10001586-1461699000-1461704400@www.kulturkreis-lintelner-geest.de
SUMMARY:Energie-Basenkur im Frühling
DESCRIPTION:Diese einwöchige Kur bietet die optimale Gelegenheit\, den Körper nach der kalten Jahreszeit von Unrat und angestautem Säuremüll zu befreien. Ohne zu hungern kann man durch leckere\, basische Kost die Zellen auf sanfte Weise entsäuren. Das Bindegewebe wird wieder straffer und das Hautbild verfeinert sich. Ein weiterer positiver Nebeneffekt ist die mögliche Gewichtsabnahme von bis zu 3 kg. Es kann sich eine neue Leichtigkeit und ein enormer Zuwachs an Energie einstellen. \nWeitere interessante Inhalte sind das angeleitete Erlernen der Lymphselbstmassage\, entlastende Bewegungsübungen für Darm\, Leber und Nieren sowie wohltuende Atem- und Entspannungsübungen. \nKursbeginn: Freitag\, 22.04.2016 um 19.30 Uhr (weitere Termine folgen am Dienstag\, 26.04.2016 und Freitag\, 29.04.2016\, jeweils in der Zeit von 19.30 – 21.00 Uhr) \nKursgebühr: 65\,- Euro (incl. Infomappe mit leckeren Rezepten und wertvollen Tipps)
URL:https://www.kulturkreis-lintelner-geest.de/event/energie-basenkur-im-fruehling/
LOCATION:Müllerhaus Brunsbrock\, Schmomühlener Straße 9\, Kirchlinteln/Brunsbrock\, 27308\, Deutschland
CATEGORIES:Gesundheit,Kurse & Seminare
ORGANIZER;CN="Meike Radzeweit":MAILTO:info[at]radzeweit.de
GEO:52.9563097;9.3787651
X-APPLE-STRUCTURED-LOCATION;VALUE=URI;X-ADDRESS=Müllerhaus Brunsbrock Schmomühlener Straße 9 Kirchlinteln/Brunsbrock 27308 Deutschland;X-APPLE-RADIUS=500;X-TITLE=Schmomühlener Straße 9:geo:9.3787651,52.9563097
END:VEVENT
BEGIN:VEVENT
DTSTART;TZID=Europe/Berlin:20160422T193000
DTEND;TZID=Europe/Berlin:20160422T210000
DTSTAMP:20260420T134131
CREATED:20160222T134727Z
LAST-MODIFIED:20160222T135408Z
UID:10001584-1461353400-1461358800@www.kulturkreis-lintelner-geest.de
SUMMARY:Energie-Basenkur im Frühling
DESCRIPTION:  \nDiese einwöchige Kur bietet die optimale Gelegenheit\, den Körper nach der kalten Jahreszeit von Unrat und angestautem Säuremüll zu befreien. Ohne zu hungern kann man durch leckere\, basische Kost die Zellen auf sanfte Weise entsäuren. Das Bindegewebe wird wieder straffer und das Hautbild verfeinert sich. Ein weiterer positiver Nebeneffekt ist die mögliche Gewichtsabnahme von bis zu 3 kg. Es kann sich eine neue Leichtigkeit und ein enormer Zuwachs an Energie einstellen. \nWeitere interessante Inhalte sind das angeleitete Erlernen der Lymphselbstmassage\, entlastende Bewegungsübungen für Darm\, Leber und Nieren sowie wohltuende Atem- und Entspannungsübungen. \nKursbeginn: Freitag\, 22.04.2016 um 19.30 Uhr (weitere Termine folgen am Dienstag\, 26.04.2016 und Freitag\, 29.04.2016\, jeweils in der Zeit von 19.30 – 21.00 Uhr) \nKursgebühr: 65\,- Euro (incl. Infomappe mit leckeren Rezepten und wertvollen Tipps)
URL:https://www.kulturkreis-lintelner-geest.de/event/basenfasten-im-fruehling/
LOCATION:Müllerhaus Brunsbrock\, Schmomühlener Straße 9\, Kirchlinteln/Brunsbrock\, 27308\, Deutschland
CATEGORIES:Gesundheit,Kurse & Seminare
ORGANIZER;CN="Meike Radzeweit":MAILTO:info[at]radzeweit.de
GEO:52.9563097;9.3787651
X-APPLE-STRUCTURED-LOCATION;VALUE=URI;X-ADDRESS=Müllerhaus Brunsbrock Schmomühlener Straße 9 Kirchlinteln/Brunsbrock 27308 Deutschland;X-APPLE-RADIUS=500;X-TITLE=Schmomühlener Straße 9:geo:9.3787651,52.9563097
END:VEVENT
END:VCALENDAR