BEGIN:VCALENDAR
VERSION:2.0
PRODID:-//Kulturkreis Lintelner Geest e. V. - ECPv6.15.20//NONSGML v1.0//EN
CALSCALE:GREGORIAN
METHOD:PUBLISH
X-WR-CALNAME:Kulturkreis Lintelner Geest e. V.
X-ORIGINAL-URL:https://www.kulturkreis-lintelner-geest.de
X-WR-CALDESC:Veranstaltungen für Kulturkreis Lintelner Geest e. V.
REFRESH-INTERVAL;VALUE=DURATION:PT1H
X-Robots-Tag:noindex
X-PUBLISHED-TTL:PT1H
BEGIN:VTIMEZONE
TZID:Europe/Berlin
BEGIN:DAYLIGHT
TZOFFSETFROM:+0100
TZOFFSETTO:+0200
TZNAME:CEST
DTSTART:20240331T010000
END:DAYLIGHT
BEGIN:STANDARD
TZOFFSETFROM:+0200
TZOFFSETTO:+0100
TZNAME:CET
DTSTART:20241027T010000
END:STANDARD
BEGIN:DAYLIGHT
TZOFFSETFROM:+0100
TZOFFSETTO:+0200
TZNAME:CEST
DTSTART:20250330T010000
END:DAYLIGHT
BEGIN:STANDARD
TZOFFSETFROM:+0200
TZOFFSETTO:+0100
TZNAME:CET
DTSTART:20251026T010000
END:STANDARD
BEGIN:DAYLIGHT
TZOFFSETFROM:+0100
TZOFFSETTO:+0200
TZNAME:CEST
DTSTART:20260329T010000
END:DAYLIGHT
BEGIN:STANDARD
TZOFFSETFROM:+0200
TZOFFSETTO:+0100
TZNAME:CET
DTSTART:20261025T010000
END:STANDARD
END:VTIMEZONE
BEGIN:VEVENT
DTSTART;TZID=Europe/Berlin:20251202T193000
DTEND;TZID=Europe/Berlin:20251202T210000
DTSTAMP:20260420T103259
CREATED:20250306T145831Z
LAST-MODIFIED:20250722T135505Z
UID:10003478-1764703800-1764709200@www.kulturkreis-lintelner-geest.de
SUMMARY:NABU Kirchlinteln
DESCRIPTION:Die NABU-Gruppe Kirchlinteln wurde am 1. Juni 1987 gegründet. „Naturschutz vor Ort“ ist bis heute Motto und Ziel unserer Arbeit. Die Gruppe wird von Heiner Schiller und Bettina Bielefeld geleitet. \nWir treffen uns immer am 1. Dienstag im Monat im Müllerhaus um 19.00 Uhr. Gäste und Interessierte sind jederzeit herzlich willkommen. \nÜber das Jahr verteilt bieten wir Exkursionen und Vorträge zu Naturschutzthemen an\, die in der Regel hier im Müllerhaus stattfinden und auf der Internetseite angekündigt werden. \nWir setzen uns für folgende Ziele ein: \nAmphibienschutz\nDie Zahl der geretteten Tiere erhöhte sich kontinuierlich von 700 auf zurzeit 12000. Aus dem einen Krötenfangzaun sind heute fünf geworden\, die mit viel Engagement von unseren Helfern betreut werden.\n \nAnsprechpartnerin: Sylke Bischoff\, Telefon: 04236/567 \nPraktische Naturschutzarbeit\nBis zum heutigen Zeitpunkt werden in den Winterhalbjahren Flächen mit viel Aufwand entkusselt und standortgerecht gepflegt\, damit diese Gebiete auch als wichtige Kulturdenkmale erhalten bleiben. In den Naturschutzgebieten „Hügelgräberheide“\, „Hühnermoor“\, „Verdener Moor“ und in den von der Gruppe betreuten Feuchtbiotopen gefährdet das ungehemmte Wachstum von Birken\, Kiefern und Traubenkirschen die Landschaft. Schon seit vielen Jahren helfen uns dabei die Schülerinnen und Schüler der Oberschule am Lindhoop und die Auszubildenden der Firma emkon.\n \nAnsprechpartner: Mike Rudek\, Telefon: 04236/1229 \nEulen\nÜber 50 Schleuereulenkästen werden im Gemeindegebiet betreut. \nAnsprechpartnerin: Annette Axmann\, Telefon: 04236/1058 \nNaturschutz für Kinder\nDie Gründung einer Kindergruppe in der Gemeinde geschah 1993. In der Gruppe erfolgt die Hinführung der Kinder zu einem umweltverträglichen Verhalten spielerisch und ohne erhobenen pädagogischen Zeigefinger. \nLeiterin Bettina Bielefeld\, Telefon: 04238/943820 \nMitarbeit in der Lokalpolitik\nDie Mitarbeit in den politischen Gremien der Gemeinde und des Kreises sowie Gespräche mit den im Gemeinderat vertretenen Parteien sind wichtige Elemente der Tätigkeit in den letzten Jahren. \nAnsprechpartner: offen
URL:https://www.kulturkreis-lintelner-geest.de/event/nabu-kirchlinteln-47/2025-12-02/
LOCATION:Müllerhaus Brunsbrock\, Schmomühlener Straße 9\, Kirchlinteln/Brunsbrock\, 27308\, Deutschland
CATEGORIES:NABU,Sitzungen
ORGANIZER;CN="Naturschutzbund Kirchlinteln":MAILTO:Gruppe.Kirchlinteln[at]NABU-Verden.de
GEO:52.9563097;9.3787651
X-APPLE-STRUCTURED-LOCATION;VALUE=URI;X-ADDRESS=Müllerhaus Brunsbrock Schmomühlener Straße 9 Kirchlinteln/Brunsbrock 27308 Deutschland;X-APPLE-RADIUS=500;X-TITLE=Schmomühlener Straße 9:geo:9.3787651,52.9563097
END:VEVENT
BEGIN:VEVENT
DTSTART;TZID=Europe/Berlin:20251203T193000
DTEND;TZID=Europe/Berlin:20251203T210000
DTSTAMP:20260420T103259
CREATED:20250306T145353Z
LAST-MODIFIED:20250722T135904Z
UID:10003465-1764790200-1764795600@www.kulturkreis-lintelner-geest.de
SUMMARY:Arbeitskreis-Sitzung
DESCRIPTION:Arbeitskreissitzung des Kulturkreises Lintelner Geest e.V. im Müllerhaus \nDer Kulturkreis Lintelner Geest e.V. ist ein gemeinnütziger Verein mit 60 Mitgliedern –\nder Verein lebt ausschließlich von der ehrenamtlichen Tätigkeit. Der Arbeitskreis Müllerhaus besteht aus ca. 16 Mitgliedern\, die sich jeweils am 1. Mittwoch im Monat zu einer Arbeitssitzung im Müllerhaus treffen\, um Veranstaltungen zu planen und die Organisation der Termine zu besprechen. \nNeue Mitglieder sind herzlich willkommen. Der Jahresbeitrag beträgt 20 EUR für Einzelpersonen und 30 EUR für Ehepaare/Lebensgemeinschaften. \nmitgliedsantrag-kulturkreis-lintelner-geest-ev-2016
URL:https://www.kulturkreis-lintelner-geest.de/event/arbeitskreis-sitzung/2025-12-03/
LOCATION:Müllerhaus Brunsbrock\, Schmomühlener Straße 9\, Kirchlinteln/Brunsbrock\, 27308\, Deutschland
CATEGORIES:Arbeitskreis,Sitzungen
ORGANIZER;CN="Kulturkreis Lintelner Geest e.V.":MAILTO:muellerhaus[ät]kulturkreis-lintelner-geest.de
GEO:52.9563097;9.3787651
X-APPLE-STRUCTURED-LOCATION;VALUE=URI;X-ADDRESS=Müllerhaus Brunsbrock Schmomühlener Straße 9 Kirchlinteln/Brunsbrock 27308 Deutschland;X-APPLE-RADIUS=500;X-TITLE=Schmomühlener Straße 9:geo:9.3787651,52.9563097
END:VEVENT
BEGIN:VEVENT
DTSTART;TZID=Europe/Berlin:20251207T143000
DTEND;TZID=Europe/Berlin:20251207T170000
DTSTAMP:20260420T103259
CREATED:20240907T154710Z
LAST-MODIFIED:20250924T173211Z
UID:10003644-1765117800-1765126800@www.kulturkreis-lintelner-geest.de
SUMMARY:Ausstellung Antje Scharge
DESCRIPTION:Unter dem Titel „Stadt\, Land\, Flow … “ zeigt Antje Scharge vom 02. November bis 07. Dezember Landschaftsmalerei und meditative Zeichnungen. Die Ausstellungseröffnung findet am 02. November um 15 Uhr statt. \nDie Ausstellung kann jeweils sonntags von 14:30 – 17:00 Uhr besichtigt werden. Die ehrenamtlichen Helferinnen und Helfer laden zu selbstgebackenem Kuchen und Kaffee ein. \nZur Künstlerin:\nFür ihre gegenständlichen Landschaftsbilder verwende Antje Scharge Aquarellfarben\, Acryl und Öl. Ihre Aquarellmalerei hat sie in den letzten Jahren dahingehend verfeinert\, sodass sie die Bilder weitgehend über die Kontrolle des Farbflusses entstehen lässt. Mit „Kontrolle des Farbflusses“ ist die Fließintensität und die Fließrichtung gemeint. Dies lässt sich durch Bestimmung der Feuchtigkeit des Papiers und den Tonwert der Farbe erzielen. Erst kürzlich begann sie\, Ölbilder in der Nass-in-Nass-Technik zu malen. Zwei Beispiele dieser Technik werden in der Ausstellung zu sehen sein. Ihre meditativen Zeichnungen entstehen ohne vorgefasstes Konzept oder höchstens mit einem vagen Konzept\, dass sich im Verlauf des Zeichnens immer wieder verändert. Hier geht es nicht um das Ergebnis\, sondern darum dass die Künstlerin versucht\, während des kompletten Vorganges\, den meditativen „Flow“ zu finden und aufrecht zu erhalten. \nDer Titel „Stadt\, Land\, Flow …“ ist angelehnt an den Namen des Spieles „Stadt\, Land\, Fluss“. „Flow“ bedeutet ja in der Übersetzung ebenfalls „Fluss“\, allerdings im übertragenen Sinn. „Im Flow sein“ wird gemeinhin so verstanden\, dass die Person in einer Tätigkeit völlig aufgeht\, und das Außen in den Hintergrund rückt. Dieser Zustand ist Ziel und Zweck ihrer meditativen Zeichnungen\, weshalb sie sich bei ihrer Entstehung keinem Konzept unterwirft\, sondern sich treiben lässt. Nicht nur die Form\, die die Zeichnung allmählich annimmt\, ist einer maximalen Spontanität unterworfen\, sondern auch der Einsatz der verschiedenen Mal- und Zeichenmedien geht auf einen momentanen\, spontanen Wunsch zurück. Die verwendeten Medien hierbei sind: schwarze Tinte\, gelegentlich braune\, blaue oder grüne Tinte\, Aquarellfarben\, Aquarellstifte\, Buntstifte\, Gel-Schreiber\, Kugelschreiber\, Pastell-\, Graphit- und Bleistifte\, Alkoholmarker\, sowie gewöhnliche Textmarker.
URL:https://www.kulturkreis-lintelner-geest.de/event/ausstellung-antje-scharge/2025-12-07/
LOCATION:Müllerhaus Brunsbrock\, Schmomühlener Straße 9\, Kirchlinteln/Brunsbrock\, 27308\, Deutschland
CATEGORIES:Ausstellungen
ORGANIZER;CN="Kulturkreis Lintelner Geest e.V.":MAILTO:muellerhaus[ät]kulturkreis-lintelner-geest.de
GEO:52.9563097;9.3787651
X-APPLE-STRUCTURED-LOCATION;VALUE=URI;X-ADDRESS=Müllerhaus Brunsbrock Schmomühlener Straße 9 Kirchlinteln/Brunsbrock 27308 Deutschland;X-APPLE-RADIUS=500;X-TITLE=Schmomühlener Straße 9:geo:9.3787651,52.9563097
END:VEVENT
BEGIN:VEVENT
DTSTART;TZID=Europe/Berlin:20251210T193000
DTEND;TZID=Europe/Berlin:20251210T210000
DTSTAMP:20260420T103259
CREATED:20250306T150117Z
LAST-MODIFIED:20260108T090433Z
UID:10003490-1765395000-1765400400@www.kulturkreis-lintelner-geest.de
SUMMARY:Fotogruppe im Müllerhaus
DESCRIPTION:Jeden 2. Mittwoch im Monat trifft sich die Fotogruppe im Müllerhaus unter der Leitung von Gerd Scharninghausen. \nAnfang 2012 wurde die Fotogruppe fünf Fotobegeisterten gegründet. Mittlerweile ist die Gruppe auf 13 Mitglieder angewachsen. \nBei den Treffen werden aus unterschiedlichen Bereichen der Fotografie\, z.B. Architektur-\, Technik-\, Landschaft- oder Naturfotografie Themen erarbeitet\, die dann fotografisch umgesetzt werden. Dazu werden auch gemeinsame Ausflüge\, die ein paar Stunden\, oder auch einen ganzen Tag in Anspruch nehmen können\, unternommen. \nZiel der Gruppe ist es sich gemeinsam mit dem Thema Fotografie zu beschäftigen und die fotografischen Fähigkeiten weiter auszubauen. Dabei geht es um die Bildgestaltung\, aber auch um die Auseinandersetzung mit der Kameratechnik sowie neue Techniken wie zum Beispiel HDR- oder Panoramafotografie.
URL:https://www.kulturkreis-lintelner-geest.de/event/fotogruppe-im-muellerhaus-2/2025-12-10/
LOCATION:Müllerhaus Brunsbrock\, Schmomühlener Straße 9\, Kirchlinteln/Brunsbrock\, 27308\, Deutschland
CATEGORIES:Fotogruppe
ORGANIZER;CN="Fotogruppe M%C3%BCllerhaus":MAILTO:g.scharninghausen@t-online.de
GEO:52.9563097;9.3787651
X-APPLE-STRUCTURED-LOCATION;VALUE=URI;X-ADDRESS=Müllerhaus Brunsbrock Schmomühlener Straße 9 Kirchlinteln/Brunsbrock 27308 Deutschland;X-APPLE-RADIUS=500;X-TITLE=Schmomühlener Straße 9:geo:9.3787651,52.9563097
END:VEVENT
BEGIN:VEVENT
DTSTART;TZID=Europe/Berlin:20251213T200000
DTEND;TZID=Europe/Berlin:20251213T220000
DTSTAMP:20260420T103259
CREATED:20251027T181758Z
LAST-MODIFIED:20251110T173840Z
UID:10003650-1765656000-1765663200@www.kulturkreis-lintelner-geest.de
SUMMARY:SOULY Konzert im Müllerhaus
DESCRIPTION:  \n \nSouly-Konzert im Müllerhaus\nViele Auftritte\, Aufnahmen im Studio\, und ein neues Video wird am 1. Advent veröffentlicht – Souly ist auch 2025 so fleißig wie immer. Am Samstag\, 13. Dezember\, spielt die Band im Müllerhaus Brunsbrock.\nIn diesen Tagen herrscht Hochbetrieb im Langwedeler Souly-Studio. Die letzten Video-Takes für einen neuen Weihnachts-Song der Gruppe stehen auf dem Programm. Souly-Pianist Gert Alsleben hat ihn geschrieben. Die Audio-Aufnahmen mit der Band waren schon im Juni\, die Sängerinnen kamen in den Wochen danach dazu. Dann gab es eine kleine Pause für eine Reihe von Konzerten\, und jetzt fehlen nur noch ein paar Video-Einstellungen\, dann ist das Projekt fertig. Die letzten Aufnahmen gibt es in Bremen\, gleich zu Beginn des Weihnachtsmarktes. „Die werden noch ins Video integriert\, und dann wird es gerade rechtzeitig zum ersten Advent fertig.“ Souly-Sängerin Maria Bothen lächelt erleichtert: „Es war knapp\, aber am Ende hat alles geklappt. Ab 30. November kann man den Song auf unserem YouTube-Kanal SOULYMUSICde sehen.“ Live ist „Will you be home for Christmas?“ zum ersten Mal am 13. Dezember im Müllerhaus zu hören. „Insgesamt ist es kein Weihnachtsprogramm.“\, berichtet Melanie Schierenbeck\, ebenfalls Sängerin bei Souly. „Aber wir freuen uns natürlich sehr\, dass wir unseren neuesten Song auch zum ersten Mal live vorstellen können.“ \nDas Publikum kann sich am 3. Advent im Müllerhaus auf einen abwechslungsreichen Abend freuen. Die Band kommt in achtköpfiger Besetzung mit den drei Sängerinnen Maria Bothen\, Melanie Schierenbeck und Johanna Röttger und der Rhythmusgruppe mit Gert Alsleben am Piano\, Hilton Gonzales und Steve Peter Wieters an den Gitarren\, Ali Schneider am Bass und Toni Danner am Cachon. Das Programm ist so vielseitig\, wie man es von Souly kennt: Jazziges ist dabei wie „Mr. Bojangles“\, und natürlich werden auch Soul-Nummern wie Stevie Wonders „Sir Duke“ oder „My Girl“ von den Temptations zu hören sein. Filmmusik\, zum Beispiel „Part of your world“ aus Disneys „Arielle“\, ist ebenso im Repertoire wie die Bossa-Nummer „Desafinado“ aus Brasilien oder „Alles leuchtet“ von Joy Denalane. Aber auch Bach-Gounods „Ave Maria“ wird im Müllerhaus erklingen\, in einer Duo-Version mit Melanie Schierenbeck\, Gesang und Gert Alsleben\, Piano. Außerdem vier eigene Kompositionen der Band\, darunter der neue Weihnachtssong. Wie schon bei ihren letzten Auftritten wird die Gruppe auch das Konzert im Müllerhaus mitschneiden. Es kann also gut sein\, dass man den einen oder anderen Song noch einmal auf YouTube und in den sozialen Netzwerken wiedersehen kann. \n15€ im Vorverkauf / 18€ an der Abendkasse \nReservierungen nimmt Marlies Meyer entgegen:\nTelefon: 0151 – 5816 1278 | marlies.meyer@web.de
URL:https://www.kulturkreis-lintelner-geest.de/event/souly-konzert-im-muellerhaus/
LOCATION:Müllerhaus Brunsbrock\, Schmomühlener Straße 9\, Kirchlinteln/Brunsbrock\, 27308\, Deutschland
CATEGORIES:Konzerte
ORGANIZER;CN="Kulturkreis Lintelner Geest e.V.":MAILTO:muellerhaus[ät]kulturkreis-lintelner-geest.de
GEO:52.9563097;9.3787651
X-APPLE-STRUCTURED-LOCATION;VALUE=URI;X-ADDRESS=Müllerhaus Brunsbrock Schmomühlener Straße 9 Kirchlinteln/Brunsbrock 27308 Deutschland;X-APPLE-RADIUS=500;X-TITLE=Schmomühlener Straße 9:geo:9.3787651,52.9563097
END:VEVENT
BEGIN:VEVENT
DTSTART;VALUE=DATE:20251214
DTEND;VALUE=DATE:20251215
DTSTAMP:20260420T103259
CREATED:20240907T154826Z
LAST-MODIFIED:20240907T154826Z
UID:10003391-1765670400-1765756799@www.kulturkreis-lintelner-geest.de
SUMMARY:Winterpause
DESCRIPTION:
URL:https://www.kulturkreis-lintelner-geest.de/event/winterpause-31/2025-12-14/
LOCATION:Müllerhaus Brunsbrock\, Schmomühlener Straße 9\, Kirchlinteln/Brunsbrock\, 27308\, Deutschland
ORGANIZER;CN="Kulturkreis Lintelner Geest e.V.":MAILTO:muellerhaus[ät]kulturkreis-lintelner-geest.de
GEO:52.9563097;9.3787651
X-APPLE-STRUCTURED-LOCATION;VALUE=URI;X-ADDRESS=Müllerhaus Brunsbrock Schmomühlener Straße 9 Kirchlinteln/Brunsbrock 27308 Deutschland;X-APPLE-RADIUS=500;X-TITLE=Schmomühlener Straße 9:geo:9.3787651,52.9563097
END:VEVENT
BEGIN:VEVENT
DTSTART;TZID=Europe/Berlin:20251217T193000
DTEND;TZID=Europe/Berlin:20251217T210000
DTSTAMP:20260420T103259
CREATED:20250306T150306Z
LAST-MODIFIED:20251127T090639Z
UID:10003502-1765999800-1766005200@www.kulturkreis-lintelner-geest.de
SUMMARY:Bündnis 90 / Die Grünen
DESCRIPTION:Sitzung von Bündnis 90 / Die Grünen\nOrtsverband Kirchlinteln \nAnsprechpartner: Petra Bruns\nRaum: Große Diele
URL:https://www.kulturkreis-lintelner-geest.de/event/buendnis-90-die-gruenen-52/2025-12-17/
LOCATION:Müllerhaus Brunsbrock\, Schmomühlener Straße 9\, Kirchlinteln/Brunsbrock\, 27308\, Deutschland
CATEGORIES:Sitzungen
ORGANIZER;CN="B%C3%BCndnis 90 / Die Gr%C3%BCnen":MAILTO:joerg.rohrbeck[at]gmx.de
GEO:52.9563097;9.3787651
X-APPLE-STRUCTURED-LOCATION;VALUE=URI;X-ADDRESS=Müllerhaus Brunsbrock Schmomühlener Straße 9 Kirchlinteln/Brunsbrock 27308 Deutschland;X-APPLE-RADIUS=500;X-TITLE=Schmomühlener Straße 9:geo:9.3787651,52.9563097
END:VEVENT
BEGIN:VEVENT
DTSTART;VALUE=DATE:20251221
DTEND;VALUE=DATE:20251222
DTSTAMP:20260420T103259
CREATED:20240907T154826Z
LAST-MODIFIED:20240907T154826Z
UID:10003392-1766275200-1766361599@www.kulturkreis-lintelner-geest.de
SUMMARY:Winterpause
DESCRIPTION:
URL:https://www.kulturkreis-lintelner-geest.de/event/winterpause-31/2025-12-21/
LOCATION:Müllerhaus Brunsbrock\, Schmomühlener Straße 9\, Kirchlinteln/Brunsbrock\, 27308\, Deutschland
ORGANIZER;CN="Kulturkreis Lintelner Geest e.V.":MAILTO:muellerhaus[ät]kulturkreis-lintelner-geest.de
GEO:52.9563097;9.3787651
X-APPLE-STRUCTURED-LOCATION;VALUE=URI;X-ADDRESS=Müllerhaus Brunsbrock Schmomühlener Straße 9 Kirchlinteln/Brunsbrock 27308 Deutschland;X-APPLE-RADIUS=500;X-TITLE=Schmomühlener Straße 9:geo:9.3787651,52.9563097
END:VEVENT
BEGIN:VEVENT
DTSTART;VALUE=DATE:20251224
DTEND;VALUE=DATE:20251225
DTSTAMP:20260420T103259
CREATED:20240907T151617Z
LAST-MODIFIED:20240907T151617Z
UID:10003310-1766534400-1766620799@www.kulturkreis-lintelner-geest.de
SUMMARY:Heiligabend
DESCRIPTION:
URL:https://www.kulturkreis-lintelner-geest.de/event/heiligabend/2025-12-24/
LOCATION:Müllerhaus Brunsbrock\, Schmomühlener Straße 9\, Kirchlinteln/Brunsbrock\, 27308\, Deutschland
GEO:52.9563097;9.3787651
X-APPLE-STRUCTURED-LOCATION;VALUE=URI;X-ADDRESS=Müllerhaus Brunsbrock Schmomühlener Straße 9 Kirchlinteln/Brunsbrock 27308 Deutschland;X-APPLE-RADIUS=500;X-TITLE=Schmomühlener Straße 9:geo:9.3787651,52.9563097
END:VEVENT
BEGIN:VEVENT
DTSTART;VALUE=DATE:20251225
DTEND;VALUE=DATE:20251226
DTSTAMP:20260420T103259
CREATED:20240907T151649Z
LAST-MODIFIED:20240907T151649Z
UID:10003315-1766620800-1766707199@www.kulturkreis-lintelner-geest.de
SUMMARY:1. Weihnachtstag
DESCRIPTION:
URL:https://www.kulturkreis-lintelner-geest.de/event/1-weihnachtstag/2025-12-25/
LOCATION:Müllerhaus Brunsbrock\, Schmomühlener Straße 9\, Kirchlinteln/Brunsbrock\, 27308\, Deutschland
GEO:52.9563097;9.3787651
X-APPLE-STRUCTURED-LOCATION;VALUE=URI;X-ADDRESS=Müllerhaus Brunsbrock Schmomühlener Straße 9 Kirchlinteln/Brunsbrock 27308 Deutschland;X-APPLE-RADIUS=500;X-TITLE=Schmomühlener Straße 9:geo:9.3787651,52.9563097
END:VEVENT
BEGIN:VEVENT
DTSTART;VALUE=DATE:20251226
DTEND;VALUE=DATE:20251227
DTSTAMP:20260420T103259
CREATED:20240907T151721Z
LAST-MODIFIED:20240907T151721Z
UID:10003320-1766707200-1766793599@www.kulturkreis-lintelner-geest.de
SUMMARY:2. Weihnachtstag
DESCRIPTION:
URL:https://www.kulturkreis-lintelner-geest.de/event/2-weihnachtstag/2025-12-26/
LOCATION:Müllerhaus Brunsbrock\, Schmomühlener Straße 9\, Kirchlinteln/Brunsbrock\, 27308\, Deutschland
GEO:52.9563097;9.3787651
X-APPLE-STRUCTURED-LOCATION;VALUE=URI;X-ADDRESS=Müllerhaus Brunsbrock Schmomühlener Straße 9 Kirchlinteln/Brunsbrock 27308 Deutschland;X-APPLE-RADIUS=500;X-TITLE=Schmomühlener Straße 9:geo:9.3787651,52.9563097
END:VEVENT
BEGIN:VEVENT
DTSTART;VALUE=DATE:20251228
DTEND;VALUE=DATE:20251229
DTSTAMP:20260420T103259
CREATED:20240907T154826Z
LAST-MODIFIED:20240907T154826Z
UID:10003393-1766880000-1766966399@www.kulturkreis-lintelner-geest.de
SUMMARY:Winterpause
DESCRIPTION:
URL:https://www.kulturkreis-lintelner-geest.de/event/winterpause-31/2025-12-28/
LOCATION:Müllerhaus Brunsbrock\, Schmomühlener Straße 9\, Kirchlinteln/Brunsbrock\, 27308\, Deutschland
ORGANIZER;CN="Kulturkreis Lintelner Geest e.V.":MAILTO:muellerhaus[ät]kulturkreis-lintelner-geest.de
GEO:52.9563097;9.3787651
X-APPLE-STRUCTURED-LOCATION;VALUE=URI;X-ADDRESS=Müllerhaus Brunsbrock Schmomühlener Straße 9 Kirchlinteln/Brunsbrock 27308 Deutschland;X-APPLE-RADIUS=500;X-TITLE=Schmomühlener Straße 9:geo:9.3787651,52.9563097
END:VEVENT
END:VCALENDAR