BEGIN:VCALENDAR
VERSION:2.0
PRODID:-//Kulturkreis Lintelner Geest e. V. - ECPv6.15.20//NONSGML v1.0//EN
CALSCALE:GREGORIAN
METHOD:PUBLISH
X-WR-CALNAME:Kulturkreis Lintelner Geest e. V.
X-ORIGINAL-URL:https://www.kulturkreis-lintelner-geest.de
X-WR-CALDESC:Veranstaltungen für Kulturkreis Lintelner Geest e. V.
REFRESH-INTERVAL;VALUE=DURATION:PT1H
X-Robots-Tag:noindex
X-PUBLISHED-TTL:PT1H
BEGIN:VTIMEZONE
TZID:Europe/Berlin
BEGIN:DAYLIGHT
TZOFFSETFROM:+0100
TZOFFSETTO:+0200
TZNAME:CEST
DTSTART:20240331T010000
END:DAYLIGHT
BEGIN:STANDARD
TZOFFSETFROM:+0200
TZOFFSETTO:+0100
TZNAME:CET
DTSTART:20241027T010000
END:STANDARD
BEGIN:DAYLIGHT
TZOFFSETFROM:+0100
TZOFFSETTO:+0200
TZNAME:CEST
DTSTART:20250330T010000
END:DAYLIGHT
BEGIN:STANDARD
TZOFFSETFROM:+0200
TZOFFSETTO:+0100
TZNAME:CET
DTSTART:20251026T010000
END:STANDARD
BEGIN:DAYLIGHT
TZOFFSETFROM:+0100
TZOFFSETTO:+0200
TZNAME:CEST
DTSTART:20260329T010000
END:DAYLIGHT
BEGIN:STANDARD
TZOFFSETFROM:+0200
TZOFFSETTO:+0100
TZNAME:CET
DTSTART:20261025T010000
END:STANDARD
END:VTIMEZONE
BEGIN:VEVENT
DTSTART;TZID=Europe/Berlin:20251001T193000
DTEND;TZID=Europe/Berlin:20251001T210000
DTSTAMP:20260420T133843
CREATED:20250306T145353Z
LAST-MODIFIED:20250722T135904Z
UID:10003463-1759347000-1759352400@www.kulturkreis-lintelner-geest.de
SUMMARY:Arbeitskreis-Sitzung
DESCRIPTION:Arbeitskreissitzung des Kulturkreises Lintelner Geest e.V. im Müllerhaus \nDer Kulturkreis Lintelner Geest e.V. ist ein gemeinnütziger Verein mit 60 Mitgliedern –\nder Verein lebt ausschließlich von der ehrenamtlichen Tätigkeit. Der Arbeitskreis Müllerhaus besteht aus ca. 16 Mitgliedern\, die sich jeweils am 1. Mittwoch im Monat zu einer Arbeitssitzung im Müllerhaus treffen\, um Veranstaltungen zu planen und die Organisation der Termine zu besprechen. \nNeue Mitglieder sind herzlich willkommen. Der Jahresbeitrag beträgt 20 EUR für Einzelpersonen und 30 EUR für Ehepaare/Lebensgemeinschaften. \nmitgliedsantrag-kulturkreis-lintelner-geest-ev-2016
URL:https://www.kulturkreis-lintelner-geest.de/event/arbeitskreis-sitzung/2025-10-01/
LOCATION:Müllerhaus Brunsbrock\, Schmomühlener Straße 9\, Kirchlinteln/Brunsbrock\, 27308\, Deutschland
CATEGORIES:Arbeitskreis,Sitzungen
ORGANIZER;CN="Kulturkreis Lintelner Geest e.V.":MAILTO:muellerhaus[ät]kulturkreis-lintelner-geest.de
GEO:52.9563097;9.3787651
X-APPLE-STRUCTURED-LOCATION;VALUE=URI;X-ADDRESS=Müllerhaus Brunsbrock Schmomühlener Straße 9 Kirchlinteln/Brunsbrock 27308 Deutschland;X-APPLE-RADIUS=500;X-TITLE=Schmomühlener Straße 9:geo:9.3787651,52.9563097
END:VEVENT
BEGIN:VEVENT
DTSTART;TZID=Europe/Berlin:20251002T110000
DTEND;TZID=Europe/Berlin:20251002T123000
DTSTAMP:20260420T133843
CREATED:20241030T174140Z
LAST-MODIFIED:20250115T120357Z
UID:10003396-1759402800-1759408200@www.kulturkreis-lintelner-geest.de
SUMMARY:Trauung
DESCRIPTION:Trauung im Müllerhaus um 11:00 Uhr\n\n\n\nDas Müllerhaus als Aussenstelle des Standesamtes Kirchlinteln ist ein ganz besonderer Ort für Ihre standesamtliche Trauung in historischem Ambiente. Die Schmomühle eignet sich hervorragend  als malerische Kulisse für unvergessliche Hochzeitsaufnahmen. \n\n\n\nAnmeldungen erfolgen über Frau Lena Koopmann in der Gemeinde Kirchlinteln. Standesamt Kirchlinteln: T 04236 – 8727 \n\n\n\nAlle weiteren organisatorischen Fragen wie – Anzahl der Gäste – Sektempfang – Musik [Klavierbegleitung] – sonstiger Service wie z.B. „Weisse Tauben“ etc sprechen Sie mit dem Kulturkreis Lintelner Geest e.V. ab. \n\n\n\n\n\nIhre Ansprechpartnerin ist Frau Erika Kaptein-Bruns – Trauungen@kulturkreis-lintelner-geest.de
URL:https://www.kulturkreis-lintelner-geest.de/event/trauung-247/
LOCATION:Müllerhaus Brunsbrock\, Schmomühlener Straße 9\, Kirchlinteln/Brunsbrock\, 27308\, Deutschland
CATEGORIES:Trauungen
ORGANIZER;CN="Standesamt Kirchlinteln":MAILTO:Lena.Koopmann@kirchlinteln.de
GEO:52.9563097;9.3787651
X-APPLE-STRUCTURED-LOCATION;VALUE=URI;X-ADDRESS=Müllerhaus Brunsbrock Schmomühlener Straße 9 Kirchlinteln/Brunsbrock 27308 Deutschland;X-APPLE-RADIUS=500;X-TITLE=Schmomühlener Straße 9:geo:9.3787651,52.9563097
END:VEVENT
BEGIN:VEVENT
DTSTART;VALUE=DATE:20251003
DTEND;VALUE=DATE:20251004
DTSTAMP:20260420T133843
CREATED:20240414T070737Z
LAST-MODIFIED:20240907T151340Z
UID:10003301-1759449600-1759535999@www.kulturkreis-lintelner-geest.de
SUMMARY:Tag der Deutschen Einheit
DESCRIPTION:
URL:https://www.kulturkreis-lintelner-geest.de/event/tag-der-deutschen-einheit-6/2025-10-03/
LOCATION:Müllerhaus Brunsbrock\, Schmomühlener Straße 9\, Kirchlinteln/Brunsbrock\, 27308\, Deutschland
CATEGORIES:Feiertag
GEO:52.9563097;9.3787651
X-APPLE-STRUCTURED-LOCATION;VALUE=URI;X-ADDRESS=Müllerhaus Brunsbrock Schmomühlener Straße 9 Kirchlinteln/Brunsbrock 27308 Deutschland;X-APPLE-RADIUS=500;X-TITLE=Schmomühlener Straße 9:geo:9.3787651,52.9563097
END:VEVENT
BEGIN:VEVENT
DTSTART;TZID=Europe/Berlin:20251005T143000
DTEND;TZID=Europe/Berlin:20251005T170000
DTSTAMP:20260420T133843
CREATED:20240907T154538Z
LAST-MODIFIED:20250925T112831Z
UID:10003381-1759674600-1759683600@www.kulturkreis-lintelner-geest.de
SUMMARY:Ausstellung Ralf Kuthe und Malkreis Heimatverein Walle e.V.
DESCRIPTION:Vom 21. September 2025 bis zum 26. Oktober 2025 findet im Müllerhaus eine Präsentation unter dem Titel „Ausstellung mit Mikroskop und Pinsel“ statt. Sie zeigt  eine große Bandbreite an künstlerischen Techniken und Inhalten. Neben dem Künstler Ralf Kuthe aus Walle stellen zehn KünstlerInnen aus dem Malkreis des Waller Heimatvereins ihre Kunstwerke aus. \nZur Vernissage dieser schönen Ausstellung am Sonntag\, dem 21. September 2025\, um 15.00 Uhr\, laden wir Sie herzlich ein. Sie können die Ausstellung jeden Sonntag in der Zeit von 14.30 bis 17.00 Uhr besichtigen. Dazu laden die ehrenamtlichen Helferinnen und Helfer zu selbstgebackenen Kuchen und Torten ein. \nRalf Kuthe zeigt Arbeiten aus dem Bereich der „Polarisationsfotografie“.  Auf diesen unglaublichen Fotos sind kristallisierte Stoffe (z. B. Backpulver und Paracetamol) in Vergrößerungen zu sehen. Ebenso spannend sind Ralf Kuthes „Mikroskopfotos“ – winziges im GROSSFORMAT. Darüber hinaus wird er einige seiner gemalten Arbeiten präsentieren\, in denen er Acrylfarben mit verschiedenen Kreiden kombiniert. \nZu seiner Ausstellung hat Ralf Kuthe als Leiter des Waller Malkreises\, die dort teilnehmenden Kunstschaffenden eingeladen\, mit ihm gemeinsam auszustellen. Die KünstlerInnen des Waller Malkreises zeigen Arbeiten in Aquarell\, Acryl und Kreide\, darunter maritime Motive\, südeuropäischen Landschaften\, Natur\, grafische und geometrische Formation an und Momente des Schönen mit kunstvollen Gedanken. \nDie folgenden KünstlerInnen sind dabei: Anneliese Gogel\, Ingrid Kazcmarek\, Heidi Klintworth\, Ruth Kuthe\, Birgit Miehe-Grünhagen\, Reinhard Müller\, Heidemarie Otten\, Sybille Paul\, Dörte Schiemann und Kornelia Schröder.
URL:https://www.kulturkreis-lintelner-geest.de/event/ausstellung-ralf-kluthe/2025-10-05/
LOCATION:Müllerhaus Brunsbrock\, Schmomühlener Straße 9\, Kirchlinteln/Brunsbrock\, 27308\, Deutschland
CATEGORIES:Ausstellungen
ORGANIZER;CN="Kulturkreis Lintelner Geest e.V.":MAILTO:muellerhaus[ät]kulturkreis-lintelner-geest.de
GEO:52.9563097;9.3787651
X-APPLE-STRUCTURED-LOCATION;VALUE=URI;X-ADDRESS=Müllerhaus Brunsbrock Schmomühlener Straße 9 Kirchlinteln/Brunsbrock 27308 Deutschland;X-APPLE-RADIUS=500;X-TITLE=Schmomühlener Straße 9:geo:9.3787651,52.9563097
END:VEVENT
BEGIN:VEVENT
DTSTART;TZID=Europe/Berlin:20251007T193000
DTEND;TZID=Europe/Berlin:20251007T210000
DTSTAMP:20260420T133843
CREATED:20250306T145831Z
LAST-MODIFIED:20250722T135505Z
UID:10003476-1759865400-1759870800@www.kulturkreis-lintelner-geest.de
SUMMARY:NABU Kirchlinteln
DESCRIPTION:Die NABU-Gruppe Kirchlinteln wurde am 1. Juni 1987 gegründet. „Naturschutz vor Ort“ ist bis heute Motto und Ziel unserer Arbeit. Die Gruppe wird von Heiner Schiller und Bettina Bielefeld geleitet. \nWir treffen uns immer am 1. Dienstag im Monat im Müllerhaus um 19.00 Uhr. Gäste und Interessierte sind jederzeit herzlich willkommen. \nÜber das Jahr verteilt bieten wir Exkursionen und Vorträge zu Naturschutzthemen an\, die in der Regel hier im Müllerhaus stattfinden und auf der Internetseite angekündigt werden. \nWir setzen uns für folgende Ziele ein: \nAmphibienschutz\nDie Zahl der geretteten Tiere erhöhte sich kontinuierlich von 700 auf zurzeit 12000. Aus dem einen Krötenfangzaun sind heute fünf geworden\, die mit viel Engagement von unseren Helfern betreut werden.\n \nAnsprechpartnerin: Sylke Bischoff\, Telefon: 04236/567 \nPraktische Naturschutzarbeit\nBis zum heutigen Zeitpunkt werden in den Winterhalbjahren Flächen mit viel Aufwand entkusselt und standortgerecht gepflegt\, damit diese Gebiete auch als wichtige Kulturdenkmale erhalten bleiben. In den Naturschutzgebieten „Hügelgräberheide“\, „Hühnermoor“\, „Verdener Moor“ und in den von der Gruppe betreuten Feuchtbiotopen gefährdet das ungehemmte Wachstum von Birken\, Kiefern und Traubenkirschen die Landschaft. Schon seit vielen Jahren helfen uns dabei die Schülerinnen und Schüler der Oberschule am Lindhoop und die Auszubildenden der Firma emkon.\n \nAnsprechpartner: Mike Rudek\, Telefon: 04236/1229 \nEulen\nÜber 50 Schleuereulenkästen werden im Gemeindegebiet betreut. \nAnsprechpartnerin: Annette Axmann\, Telefon: 04236/1058 \nNaturschutz für Kinder\nDie Gründung einer Kindergruppe in der Gemeinde geschah 1993. In der Gruppe erfolgt die Hinführung der Kinder zu einem umweltverträglichen Verhalten spielerisch und ohne erhobenen pädagogischen Zeigefinger. \nLeiterin Bettina Bielefeld\, Telefon: 04238/943820 \nMitarbeit in der Lokalpolitik\nDie Mitarbeit in den politischen Gremien der Gemeinde und des Kreises sowie Gespräche mit den im Gemeinderat vertretenen Parteien sind wichtige Elemente der Tätigkeit in den letzten Jahren. \nAnsprechpartner: offen
URL:https://www.kulturkreis-lintelner-geest.de/event/nabu-kirchlinteln-47/2025-10-07/
LOCATION:Müllerhaus Brunsbrock\, Schmomühlener Straße 9\, Kirchlinteln/Brunsbrock\, 27308\, Deutschland
CATEGORIES:NABU,Sitzungen
ORGANIZER;CN="Naturschutzbund Kirchlinteln":MAILTO:Gruppe.Kirchlinteln[at]NABU-Verden.de
GEO:52.9563097;9.3787651
X-APPLE-STRUCTURED-LOCATION;VALUE=URI;X-ADDRESS=Müllerhaus Brunsbrock Schmomühlener Straße 9 Kirchlinteln/Brunsbrock 27308 Deutschland;X-APPLE-RADIUS=500;X-TITLE=Schmomühlener Straße 9:geo:9.3787651,52.9563097
END:VEVENT
BEGIN:VEVENT
DTSTART;TZID=Europe/Berlin:20251008T193000
DTEND;TZID=Europe/Berlin:20251008T210000
DTSTAMP:20260420T133843
CREATED:20250306T150117Z
LAST-MODIFIED:20260108T090433Z
UID:10003488-1759951800-1759957200@www.kulturkreis-lintelner-geest.de
SUMMARY:Fotogruppe im Müllerhaus
DESCRIPTION:Jeden 2. Mittwoch im Monat trifft sich die Fotogruppe im Müllerhaus unter der Leitung von Gerd Scharninghausen. \nAnfang 2012 wurde die Fotogruppe fünf Fotobegeisterten gegründet. Mittlerweile ist die Gruppe auf 13 Mitglieder angewachsen. \nBei den Treffen werden aus unterschiedlichen Bereichen der Fotografie\, z.B. Architektur-\, Technik-\, Landschaft- oder Naturfotografie Themen erarbeitet\, die dann fotografisch umgesetzt werden. Dazu werden auch gemeinsame Ausflüge\, die ein paar Stunden\, oder auch einen ganzen Tag in Anspruch nehmen können\, unternommen. \nZiel der Gruppe ist es sich gemeinsam mit dem Thema Fotografie zu beschäftigen und die fotografischen Fähigkeiten weiter auszubauen. Dabei geht es um die Bildgestaltung\, aber auch um die Auseinandersetzung mit der Kameratechnik sowie neue Techniken wie zum Beispiel HDR- oder Panoramafotografie.
URL:https://www.kulturkreis-lintelner-geest.de/event/fotogruppe-im-muellerhaus-2/2025-10-08/
LOCATION:Müllerhaus Brunsbrock\, Schmomühlener Straße 9\, Kirchlinteln/Brunsbrock\, 27308\, Deutschland
CATEGORIES:Fotogruppe
ORGANIZER;CN="Fotogruppe M%C3%BCllerhaus":MAILTO:g.scharninghausen@t-online.de
GEO:52.9563097;9.3787651
X-APPLE-STRUCTURED-LOCATION;VALUE=URI;X-ADDRESS=Müllerhaus Brunsbrock Schmomühlener Straße 9 Kirchlinteln/Brunsbrock 27308 Deutschland;X-APPLE-RADIUS=500;X-TITLE=Schmomühlener Straße 9:geo:9.3787651,52.9563097
END:VEVENT
BEGIN:VEVENT
DTSTART;TZID=Europe/Berlin:20251011T090000
DTEND;TZID=Europe/Berlin:20251011T120000
DTSTAMP:20260420T133843
CREATED:20250806T115802Z
LAST-MODIFIED:20250905T162430Z
UID:10003617-1760173200-1760184000@www.kulturkreis-lintelner-geest.de
SUMMARY:Frauenfrühstück
DESCRIPTION:Frauenfrühstück im Müllerhaus\nDie fleißigen ehrenamtlichen Helferinnen des Kulturkreises Lintelner Geest e.V. bereiten am 11. Oktober 2025 unter der fachlichen Leitung von Annette Wöbse-Miklis wieder ein leckeres Frühstück vor. \nJulia Hüchting aus Thedinghausen referiert zum Thema „Zero Waste„: Wie können wir im Alltag ganz konkret Müll vermeiden – und warum ist das eigentlich so wichtig? \nDie Referentin beschäftigt sich seit 2018 mit dem nachhaltigen Lebensstil und weiteren Umweltthemen. Sie beleuchtet zunächst die wissenschaftlichen Grundlagen der „Zero Waste“-Bewegung. Im Anschluss werden zahlreiche Tipps\, Produkte und Ideen vorgestellt\, mit denen wir im Alltag ganz einfach Müll reduzieren können – von unverpacktem Einkaufen bis Upcycling\, von Alltagshelfern bis zu plastikfreien Alternativen. \nBeginn: 9.00 Uhr | Kosten pro Person: 20€\nAnmeldeschluss: 08.10.2025 \nInformation & Anmeldung: Marlies Meyer\nTelefon: 0151 – 5816 1278 | marlies.meyer@web.de
URL:https://www.kulturkreis-lintelner-geest.de/event/frauenfruehstueck-21/
LOCATION:Müllerhaus Brunsbrock\, Schmomühlener Straße 9\, Kirchlinteln/Brunsbrock\, 27308\, Deutschland
CATEGORIES:Ausstellungen
ORGANIZER;CN="Kulturkreis Lintelner Geest e.V.":MAILTO:muellerhaus[ät]kulturkreis-lintelner-geest.de
GEO:52.9563097;9.3787651
X-APPLE-STRUCTURED-LOCATION;VALUE=URI;X-ADDRESS=Müllerhaus Brunsbrock Schmomühlener Straße 9 Kirchlinteln/Brunsbrock 27308 Deutschland;X-APPLE-RADIUS=500;X-TITLE=Schmomühlener Straße 9:geo:9.3787651,52.9563097
END:VEVENT
BEGIN:VEVENT
DTSTART;TZID=Europe/Berlin:20251012T143000
DTEND;TZID=Europe/Berlin:20251012T170000
DTSTAMP:20260420T133843
CREATED:20240907T154538Z
LAST-MODIFIED:20250925T112831Z
UID:10003382-1760279400-1760288400@www.kulturkreis-lintelner-geest.de
SUMMARY:Ausstellung Ralf Kuthe und Malkreis Heimatverein Walle e.V.
DESCRIPTION:Vom 21. September 2025 bis zum 26. Oktober 2025 findet im Müllerhaus eine Präsentation unter dem Titel „Ausstellung mit Mikroskop und Pinsel“ statt. Sie zeigt  eine große Bandbreite an künstlerischen Techniken und Inhalten. Neben dem Künstler Ralf Kuthe aus Walle stellen zehn KünstlerInnen aus dem Malkreis des Waller Heimatvereins ihre Kunstwerke aus. \nZur Vernissage dieser schönen Ausstellung am Sonntag\, dem 21. September 2025\, um 15.00 Uhr\, laden wir Sie herzlich ein. Sie können die Ausstellung jeden Sonntag in der Zeit von 14.30 bis 17.00 Uhr besichtigen. Dazu laden die ehrenamtlichen Helferinnen und Helfer zu selbstgebackenen Kuchen und Torten ein. \nRalf Kuthe zeigt Arbeiten aus dem Bereich der „Polarisationsfotografie“.  Auf diesen unglaublichen Fotos sind kristallisierte Stoffe (z. B. Backpulver und Paracetamol) in Vergrößerungen zu sehen. Ebenso spannend sind Ralf Kuthes „Mikroskopfotos“ – winziges im GROSSFORMAT. Darüber hinaus wird er einige seiner gemalten Arbeiten präsentieren\, in denen er Acrylfarben mit verschiedenen Kreiden kombiniert. \nZu seiner Ausstellung hat Ralf Kuthe als Leiter des Waller Malkreises\, die dort teilnehmenden Kunstschaffenden eingeladen\, mit ihm gemeinsam auszustellen. Die KünstlerInnen des Waller Malkreises zeigen Arbeiten in Aquarell\, Acryl und Kreide\, darunter maritime Motive\, südeuropäischen Landschaften\, Natur\, grafische und geometrische Formation an und Momente des Schönen mit kunstvollen Gedanken. \nDie folgenden KünstlerInnen sind dabei: Anneliese Gogel\, Ingrid Kazcmarek\, Heidi Klintworth\, Ruth Kuthe\, Birgit Miehe-Grünhagen\, Reinhard Müller\, Heidemarie Otten\, Sybille Paul\, Dörte Schiemann und Kornelia Schröder.
URL:https://www.kulturkreis-lintelner-geest.de/event/ausstellung-ralf-kluthe/2025-10-12/
LOCATION:Müllerhaus Brunsbrock\, Schmomühlener Straße 9\, Kirchlinteln/Brunsbrock\, 27308\, Deutschland
CATEGORIES:Ausstellungen
ORGANIZER;CN="Kulturkreis Lintelner Geest e.V.":MAILTO:muellerhaus[ät]kulturkreis-lintelner-geest.de
GEO:52.9563097;9.3787651
X-APPLE-STRUCTURED-LOCATION;VALUE=URI;X-ADDRESS=Müllerhaus Brunsbrock Schmomühlener Straße 9 Kirchlinteln/Brunsbrock 27308 Deutschland;X-APPLE-RADIUS=500;X-TITLE=Schmomühlener Straße 9:geo:9.3787651,52.9563097
END:VEVENT
BEGIN:VEVENT
DTSTART;TZID=Europe/Berlin:20251015T193000
DTEND;TZID=Europe/Berlin:20251015T210000
DTSTAMP:20260420T133843
CREATED:20250306T150306Z
LAST-MODIFIED:20251127T090639Z
UID:10003500-1760556600-1760562000@www.kulturkreis-lintelner-geest.de
SUMMARY:Bündnis 90 / Die Grünen
DESCRIPTION:Sitzung von Bündnis 90 / Die Grünen\nOrtsverband Kirchlinteln \nAnsprechpartner: Petra Bruns\nRaum: Große Diele
URL:https://www.kulturkreis-lintelner-geest.de/event/buendnis-90-die-gruenen-52/2025-10-15/
LOCATION:Müllerhaus Brunsbrock\, Schmomühlener Straße 9\, Kirchlinteln/Brunsbrock\, 27308\, Deutschland
CATEGORIES:Sitzungen
ORGANIZER;CN="B%C3%BCndnis 90 / Die Gr%C3%BCnen":MAILTO:joerg.rohrbeck[at]gmx.de
GEO:52.9563097;9.3787651
X-APPLE-STRUCTURED-LOCATION;VALUE=URI;X-ADDRESS=Müllerhaus Brunsbrock Schmomühlener Straße 9 Kirchlinteln/Brunsbrock 27308 Deutschland;X-APPLE-RADIUS=500;X-TITLE=Schmomühlener Straße 9:geo:9.3787651,52.9563097
END:VEVENT
BEGIN:VEVENT
DTSTART;TZID=Europe/Berlin:20251019T143000
DTEND;TZID=Europe/Berlin:20251019T170000
DTSTAMP:20260420T133843
CREATED:20240907T154538Z
LAST-MODIFIED:20250925T112831Z
UID:10003383-1760884200-1760893200@www.kulturkreis-lintelner-geest.de
SUMMARY:Ausstellung Ralf Kuthe und Malkreis Heimatverein Walle e.V.
DESCRIPTION:Vom 21. September 2025 bis zum 26. Oktober 2025 findet im Müllerhaus eine Präsentation unter dem Titel „Ausstellung mit Mikroskop und Pinsel“ statt. Sie zeigt  eine große Bandbreite an künstlerischen Techniken und Inhalten. Neben dem Künstler Ralf Kuthe aus Walle stellen zehn KünstlerInnen aus dem Malkreis des Waller Heimatvereins ihre Kunstwerke aus. \nZur Vernissage dieser schönen Ausstellung am Sonntag\, dem 21. September 2025\, um 15.00 Uhr\, laden wir Sie herzlich ein. Sie können die Ausstellung jeden Sonntag in der Zeit von 14.30 bis 17.00 Uhr besichtigen. Dazu laden die ehrenamtlichen Helferinnen und Helfer zu selbstgebackenen Kuchen und Torten ein. \nRalf Kuthe zeigt Arbeiten aus dem Bereich der „Polarisationsfotografie“.  Auf diesen unglaublichen Fotos sind kristallisierte Stoffe (z. B. Backpulver und Paracetamol) in Vergrößerungen zu sehen. Ebenso spannend sind Ralf Kuthes „Mikroskopfotos“ – winziges im GROSSFORMAT. Darüber hinaus wird er einige seiner gemalten Arbeiten präsentieren\, in denen er Acrylfarben mit verschiedenen Kreiden kombiniert. \nZu seiner Ausstellung hat Ralf Kuthe als Leiter des Waller Malkreises\, die dort teilnehmenden Kunstschaffenden eingeladen\, mit ihm gemeinsam auszustellen. Die KünstlerInnen des Waller Malkreises zeigen Arbeiten in Aquarell\, Acryl und Kreide\, darunter maritime Motive\, südeuropäischen Landschaften\, Natur\, grafische und geometrische Formation an und Momente des Schönen mit kunstvollen Gedanken. \nDie folgenden KünstlerInnen sind dabei: Anneliese Gogel\, Ingrid Kazcmarek\, Heidi Klintworth\, Ruth Kuthe\, Birgit Miehe-Grünhagen\, Reinhard Müller\, Heidemarie Otten\, Sybille Paul\, Dörte Schiemann und Kornelia Schröder.
URL:https://www.kulturkreis-lintelner-geest.de/event/ausstellung-ralf-kluthe/2025-10-19/
LOCATION:Müllerhaus Brunsbrock\, Schmomühlener Straße 9\, Kirchlinteln/Brunsbrock\, 27308\, Deutschland
CATEGORIES:Ausstellungen
ORGANIZER;CN="Kulturkreis Lintelner Geest e.V.":MAILTO:muellerhaus[ät]kulturkreis-lintelner-geest.de
GEO:52.9563097;9.3787651
X-APPLE-STRUCTURED-LOCATION;VALUE=URI;X-ADDRESS=Müllerhaus Brunsbrock Schmomühlener Straße 9 Kirchlinteln/Brunsbrock 27308 Deutschland;X-APPLE-RADIUS=500;X-TITLE=Schmomühlener Straße 9:geo:9.3787651,52.9563097
END:VEVENT
BEGIN:VEVENT
DTSTART;TZID=Europe/Berlin:20251024T170000
DTEND;TZID=Europe/Berlin:20251024T190000
DTSTAMP:20260420T133843
CREATED:20250812T051926Z
LAST-MODIFIED:20250812T051952Z
UID:10003618-1761325200-1761332400@www.kulturkreis-lintelner-geest.de
SUMMARY:SPD Kirchlinteln
DESCRIPTION:Raum: Große Diele\nAnsprechpartner: Elke Beckmann
URL:https://www.kulturkreis-lintelner-geest.de/event/spd-kirchlinteln-9/
LOCATION:Müllerhaus Brunsbrock\, Schmomühlener Straße 9\, Kirchlinteln/Brunsbrock\, 27308\, Deutschland
CATEGORIES:Sitzungen
ORGANIZER;CN="SPD-Fraktion Kirchlinteln":MAILTO:elke.beckmann@spd-kirchlinteln.de
GEO:52.9563097;9.3787651
X-APPLE-STRUCTURED-LOCATION;VALUE=URI;X-ADDRESS=Müllerhaus Brunsbrock Schmomühlener Straße 9 Kirchlinteln/Brunsbrock 27308 Deutschland;X-APPLE-RADIUS=500;X-TITLE=Schmomühlener Straße 9:geo:9.3787651,52.9563097
END:VEVENT
BEGIN:VEVENT
DTSTART;TZID=Europe/Berlin:20251026T143000
DTEND;TZID=Europe/Berlin:20251026T170000
DTSTAMP:20260420T133843
CREATED:20240907T154538Z
LAST-MODIFIED:20250925T112831Z
UID:10003384-1761489000-1761498000@www.kulturkreis-lintelner-geest.de
SUMMARY:Ausstellung Ralf Kuthe und Malkreis Heimatverein Walle e.V.
DESCRIPTION:Vom 21. September 2025 bis zum 26. Oktober 2025 findet im Müllerhaus eine Präsentation unter dem Titel „Ausstellung mit Mikroskop und Pinsel“ statt. Sie zeigt  eine große Bandbreite an künstlerischen Techniken und Inhalten. Neben dem Künstler Ralf Kuthe aus Walle stellen zehn KünstlerInnen aus dem Malkreis des Waller Heimatvereins ihre Kunstwerke aus. \nZur Vernissage dieser schönen Ausstellung am Sonntag\, dem 21. September 2025\, um 15.00 Uhr\, laden wir Sie herzlich ein. Sie können die Ausstellung jeden Sonntag in der Zeit von 14.30 bis 17.00 Uhr besichtigen. Dazu laden die ehrenamtlichen Helferinnen und Helfer zu selbstgebackenen Kuchen und Torten ein. \nRalf Kuthe zeigt Arbeiten aus dem Bereich der „Polarisationsfotografie“.  Auf diesen unglaublichen Fotos sind kristallisierte Stoffe (z. B. Backpulver und Paracetamol) in Vergrößerungen zu sehen. Ebenso spannend sind Ralf Kuthes „Mikroskopfotos“ – winziges im GROSSFORMAT. Darüber hinaus wird er einige seiner gemalten Arbeiten präsentieren\, in denen er Acrylfarben mit verschiedenen Kreiden kombiniert. \nZu seiner Ausstellung hat Ralf Kuthe als Leiter des Waller Malkreises\, die dort teilnehmenden Kunstschaffenden eingeladen\, mit ihm gemeinsam auszustellen. Die KünstlerInnen des Waller Malkreises zeigen Arbeiten in Aquarell\, Acryl und Kreide\, darunter maritime Motive\, südeuropäischen Landschaften\, Natur\, grafische und geometrische Formation an und Momente des Schönen mit kunstvollen Gedanken. \nDie folgenden KünstlerInnen sind dabei: Anneliese Gogel\, Ingrid Kazcmarek\, Heidi Klintworth\, Ruth Kuthe\, Birgit Miehe-Grünhagen\, Reinhard Müller\, Heidemarie Otten\, Sybille Paul\, Dörte Schiemann und Kornelia Schröder.
URL:https://www.kulturkreis-lintelner-geest.de/event/ausstellung-ralf-kluthe/2025-10-26/
LOCATION:Müllerhaus Brunsbrock\, Schmomühlener Straße 9\, Kirchlinteln/Brunsbrock\, 27308\, Deutschland
CATEGORIES:Ausstellungen
ORGANIZER;CN="Kulturkreis Lintelner Geest e.V.":MAILTO:muellerhaus[ät]kulturkreis-lintelner-geest.de
GEO:52.9563097;9.3787651
X-APPLE-STRUCTURED-LOCATION;VALUE=URI;X-ADDRESS=Müllerhaus Brunsbrock Schmomühlener Straße 9 Kirchlinteln/Brunsbrock 27308 Deutschland;X-APPLE-RADIUS=500;X-TITLE=Schmomühlener Straße 9:geo:9.3787651,52.9563097
END:VEVENT
BEGIN:VEVENT
DTSTART;TZID=Europe/Berlin:20251026T173000
DTEND;TZID=Europe/Berlin:20251026T190000
DTSTAMP:20260420T133843
CREATED:20250624T110539Z
LAST-MODIFIED:20250624T110539Z
UID:10003550-1761499800-1761505200@www.kulturkreis-lintelner-geest.de
SUMMARY:Literaturkreis
DESCRIPTION:Treffen Literaturinteressierte im Müllerhaus\, um ein vorab gelesenes Buch zu besprechen. \nRosemarie Bach leitet die Gesprächsrunde. Gäste sind herzlich willkommen!
URL:https://www.kulturkreis-lintelner-geest.de/event/literaturkreis-18/2025-10-26/
LOCATION:Müllerhaus Brunsbrock\, Schmomühlener Straße 9\, Kirchlinteln/Brunsbrock\, 27308\, Deutschland
ORGANIZER;CN="Literaturkreis":MAILTO:romabach[at]live.de
GEO:52.9563097;9.3787651
X-APPLE-STRUCTURED-LOCATION;VALUE=URI;X-ADDRESS=Müllerhaus Brunsbrock Schmomühlener Straße 9 Kirchlinteln/Brunsbrock 27308 Deutschland;X-APPLE-RADIUS=500;X-TITLE=Schmomühlener Straße 9:geo:9.3787651,52.9563097
END:VEVENT
BEGIN:VEVENT
DTSTART;TZID=Europe/Berlin:20251029T190000
DTEND;TZID=Europe/Berlin:20251029T210000
DTSTAMP:20260420T133843
CREATED:20250923T161821Z
LAST-MODIFIED:20250923T161821Z
UID:10003639-1761764400-1761771600@www.kulturkreis-lintelner-geest.de
SUMMARY:Heilpflanzen in Theorie & Praxis: Die Kleine Teewerkstatt
DESCRIPTION:Die kleine Teewerkstatt\nHeiltee gehört zu den ältesten Arzneiformen die wir kennen. Viele der verwendeten Kräuter können wir selbst sammeln und trocknen. Dieser Tee schmeckt dann nochmal so gut. Was sind die wichtigsten Inhaltsstoffe und wie wirken sie? Wie löse ich welche Inhaltsstoffe? Wie lege ich mir einen Tee-Vorrat an. Was ist alles zu beachten. All das wird bei diesem Heilpflanzen-Abend ausführlich erklärt. Im praktischen Teil können Sie Ihren eigenen Heiltee zusammenstellen. \nIn den Kosten von 22\,50€ sind Material\, Verpackung\, ein ausführliches Skript und Getränk enthalten. \nHinweis: Es gibt 2 Termine\, da die Nachfrage so groß war: Mittwoch 29.10 und Donnerstag 30.10. \nEine Anmeldung ist erforderlich! \nSusanne Zweibrück – Heilpflanzen-Expertin\n04237 / 510 oder www.susannes-kraeuterschaetze.de
URL:https://www.kulturkreis-lintelner-geest.de/event/heilpflanzen-in-theorie-praxis-die-kleine-teewerkstatt/
LOCATION:Müllerhaus Brunsbrock\, Schmomühlener Straße 9\, Kirchlinteln/Brunsbrock\, 27308\, Deutschland
CATEGORIES:Kräuterwerkstatt,Kurse & Seminare
ORGANIZER;CN="Kulturkreis Lintelner Geest e.V.":MAILTO:muellerhaus[ät]kulturkreis-lintelner-geest.de
GEO:52.9563097;9.3787651
X-APPLE-STRUCTURED-LOCATION;VALUE=URI;X-ADDRESS=Müllerhaus Brunsbrock Schmomühlener Straße 9 Kirchlinteln/Brunsbrock 27308 Deutschland;X-APPLE-RADIUS=500;X-TITLE=Schmomühlener Straße 9:geo:9.3787651,52.9563097
END:VEVENT
BEGIN:VEVENT
DTSTART;TZID=Europe/Berlin:20251030T190000
DTEND;TZID=Europe/Berlin:20251030T210000
DTSTAMP:20260420T133843
CREATED:20250115T123153Z
LAST-MODIFIED:20250923T162033Z
UID:10003427-1761850800-1761858000@www.kulturkreis-lintelner-geest.de
SUMMARY:Heilpflanzen in Theorie & Praxis:  Die Kleine Teewerkstatt
DESCRIPTION:Die kleine Teewerkstatt\n \nDie kleine Teewerkstatt\nHeiltee gehört zu den ältesten Arzneiformen die wir kennen. Viele der verwendeten Kräuter können wir selbst sammeln und trocknen. Dieser Tee schmeckt dann nochmal so gut. Was sind die wichtigsten Inhaltsstoffe und wie wirken sie? Wie löse ich welche Inhaltsstoffe? Wie lege ich mir einen Tee-Vorrat an. Was ist alles zu beachten. All das wird bei diesem Heilpflanzen-Abend ausführlich erklärt. Im praktischen Teil können Sie Ihren eigenen Heiltee zusammenstellen. \nIn den Kosten von 22\,50€ sind Material\, Verpackung\, ein ausführliches Skript und Getränk enthalten. \nHinweis: Es gibt 2 Termine\, da die Nachfrage so groß war: Mittwoch 29.10 und Donnerstag 30.10. \nEine Anmeldung ist erforderlich! \nSusanne Zweibrück – Heilpflanzen-Expertin\n04237 / 510 oder www.susannes-kraeuterschaetze.de
URL:https://www.kulturkreis-lintelner-geest.de/event/heilpflanzen-in-theorie-praxis-15/
LOCATION:Müllerhaus Brunsbrock\, Schmomühlener Straße 9\, Kirchlinteln/Brunsbrock\, 27308\, Deutschland
CATEGORIES:Kräuterwerkstatt,Kurse & Seminare
ORGANIZER;CN="Susannes Kr%C3%A4utersch%C3%A4tze":MAILTO:info@susannes-kraeuterschaetze.de
GEO:52.9563097;9.3787651
X-APPLE-STRUCTURED-LOCATION;VALUE=URI;X-ADDRESS=Müllerhaus Brunsbrock Schmomühlener Straße 9 Kirchlinteln/Brunsbrock 27308 Deutschland;X-APPLE-RADIUS=500;X-TITLE=Schmomühlener Straße 9:geo:9.3787651,52.9563097
END:VEVENT
BEGIN:VEVENT
DTSTART;VALUE=DATE:20251031
DTEND;VALUE=DATE:20251101
DTSTAMP:20260420T133843
CREATED:20240414T070805Z
LAST-MODIFIED:20240907T151509Z
UID:10003305-1761868800-1761955199@www.kulturkreis-lintelner-geest.de
SUMMARY:Reformationstag
DESCRIPTION:
URL:https://www.kulturkreis-lintelner-geest.de/event/reformationstag-5/2025-10-31/
LOCATION:Müllerhaus Brunsbrock\, Schmomühlener Straße 9\, Kirchlinteln/Brunsbrock\, 27308\, Deutschland
CATEGORIES:Feiertag
GEO:52.9563097;9.3787651
X-APPLE-STRUCTURED-LOCATION;VALUE=URI;X-ADDRESS=Müllerhaus Brunsbrock Schmomühlener Straße 9 Kirchlinteln/Brunsbrock 27308 Deutschland;X-APPLE-RADIUS=500;X-TITLE=Schmomühlener Straße 9:geo:9.3787651,52.9563097
END:VEVENT
END:VCALENDAR