BEGIN:VCALENDAR
VERSION:2.0
PRODID:-//Kulturkreis Lintelner Geest e. V. - ECPv6.15.20//NONSGML v1.0//EN
CALSCALE:GREGORIAN
METHOD:PUBLISH
X-ORIGINAL-URL:https://www.kulturkreis-lintelner-geest.de
X-WR-CALDESC:Veranstaltungen für Kulturkreis Lintelner Geest e. V.
REFRESH-INTERVAL;VALUE=DURATION:PT1H
X-Robots-Tag:noindex
X-PUBLISHED-TTL:PT1H
BEGIN:VTIMEZONE
TZID:Europe/Berlin
BEGIN:DAYLIGHT
TZOFFSETFROM:+0100
TZOFFSETTO:+0200
TZNAME:CEST
DTSTART:20240331T010000
END:DAYLIGHT
BEGIN:STANDARD
TZOFFSETFROM:+0200
TZOFFSETTO:+0100
TZNAME:CET
DTSTART:20241027T010000
END:STANDARD
BEGIN:DAYLIGHT
TZOFFSETFROM:+0100
TZOFFSETTO:+0200
TZNAME:CEST
DTSTART:20250330T010000
END:DAYLIGHT
BEGIN:STANDARD
TZOFFSETFROM:+0200
TZOFFSETTO:+0100
TZNAME:CET
DTSTART:20251026T010000
END:STANDARD
BEGIN:DAYLIGHT
TZOFFSETFROM:+0100
TZOFFSETTO:+0200
TZNAME:CEST
DTSTART:20260329T010000
END:DAYLIGHT
BEGIN:STANDARD
TZOFFSETFROM:+0200
TZOFFSETTO:+0100
TZNAME:CET
DTSTART:20261025T010000
END:STANDARD
END:VTIMEZONE
BEGIN:VEVENT
DTSTART;TZID=Europe/Berlin:20251012T143000
DTEND;TZID=Europe/Berlin:20251012T170000
DTSTAMP:20260424T103722
CREATED:20240907T154538Z
LAST-MODIFIED:20250925T112831Z
UID:10003382-1760279400-1760288400@www.kulturkreis-lintelner-geest.de
SUMMARY:Ausstellung Ralf Kuthe und Malkreis Heimatverein Walle e.V.
DESCRIPTION:Vom 21. September 2025 bis zum 26. Oktober 2025 findet im Müllerhaus eine Präsentation unter dem Titel „Ausstellung mit Mikroskop und Pinsel“ statt. Sie zeigt  eine große Bandbreite an künstlerischen Techniken und Inhalten. Neben dem Künstler Ralf Kuthe aus Walle stellen zehn KünstlerInnen aus dem Malkreis des Waller Heimatvereins ihre Kunstwerke aus. \nZur Vernissage dieser schönen Ausstellung am Sonntag\, dem 21. September 2025\, um 15.00 Uhr\, laden wir Sie herzlich ein. Sie können die Ausstellung jeden Sonntag in der Zeit von 14.30 bis 17.00 Uhr besichtigen. Dazu laden die ehrenamtlichen Helferinnen und Helfer zu selbstgebackenen Kuchen und Torten ein. \nRalf Kuthe zeigt Arbeiten aus dem Bereich der „Polarisationsfotografie“.  Auf diesen unglaublichen Fotos sind kristallisierte Stoffe (z. B. Backpulver und Paracetamol) in Vergrößerungen zu sehen. Ebenso spannend sind Ralf Kuthes „Mikroskopfotos“ – winziges im GROSSFORMAT. Darüber hinaus wird er einige seiner gemalten Arbeiten präsentieren\, in denen er Acrylfarben mit verschiedenen Kreiden kombiniert. \nZu seiner Ausstellung hat Ralf Kuthe als Leiter des Waller Malkreises\, die dort teilnehmenden Kunstschaffenden eingeladen\, mit ihm gemeinsam auszustellen. Die KünstlerInnen des Waller Malkreises zeigen Arbeiten in Aquarell\, Acryl und Kreide\, darunter maritime Motive\, südeuropäischen Landschaften\, Natur\, grafische und geometrische Formation an und Momente des Schönen mit kunstvollen Gedanken. \nDie folgenden KünstlerInnen sind dabei: Anneliese Gogel\, Ingrid Kazcmarek\, Heidi Klintworth\, Ruth Kuthe\, Birgit Miehe-Grünhagen\, Reinhard Müller\, Heidemarie Otten\, Sybille Paul\, Dörte Schiemann und Kornelia Schröder.
URL:https://www.kulturkreis-lintelner-geest.de/event/ausstellung-ralf-kluthe/2025-10-12/
LOCATION:Müllerhaus Brunsbrock\, Schmomühlener Straße 9\, Kirchlinteln/Brunsbrock\, 27308\, Deutschland
CATEGORIES:Ausstellungen
ORGANIZER;CN="Kulturkreis Lintelner Geest e.V.":MAILTO:muellerhaus[ät]kulturkreis-lintelner-geest.de
GEO:52.9563097;9.3787651
X-APPLE-STRUCTURED-LOCATION;VALUE=URI;X-ADDRESS=Müllerhaus Brunsbrock Schmomühlener Straße 9 Kirchlinteln/Brunsbrock 27308 Deutschland;X-APPLE-RADIUS=500;X-TITLE=Schmomühlener Straße 9:geo:9.3787651,52.9563097
END:VEVENT
END:VCALENDAR