BEGIN:VCALENDAR
VERSION:2.0
PRODID:-//Kulturkreis Lintelner Geest e. V. - ECPv6.15.20//NONSGML v1.0//EN
CALSCALE:GREGORIAN
METHOD:PUBLISH
X-ORIGINAL-URL:https://www.kulturkreis-lintelner-geest.de
X-WR-CALDESC:Veranstaltungen für Kulturkreis Lintelner Geest e. V.
REFRESH-INTERVAL;VALUE=DURATION:PT1H
X-Robots-Tag:noindex
X-PUBLISHED-TTL:PT1H
BEGIN:VTIMEZONE
TZID:Europe/Berlin
BEGIN:DAYLIGHT
TZOFFSETFROM:+0100
TZOFFSETTO:+0200
TZNAME:CEST
DTSTART:20240331T010000
END:DAYLIGHT
BEGIN:STANDARD
TZOFFSETFROM:+0200
TZOFFSETTO:+0100
TZNAME:CET
DTSTART:20241027T010000
END:STANDARD
BEGIN:DAYLIGHT
TZOFFSETFROM:+0100
TZOFFSETTO:+0200
TZNAME:CEST
DTSTART:20250330T010000
END:DAYLIGHT
BEGIN:STANDARD
TZOFFSETFROM:+0200
TZOFFSETTO:+0100
TZNAME:CET
DTSTART:20251026T010000
END:STANDARD
BEGIN:DAYLIGHT
TZOFFSETFROM:+0100
TZOFFSETTO:+0200
TZNAME:CEST
DTSTART:20260329T010000
END:DAYLIGHT
BEGIN:STANDARD
TZOFFSETFROM:+0200
TZOFFSETTO:+0100
TZNAME:CET
DTSTART:20261025T010000
END:STANDARD
END:VTIMEZONE
BEGIN:VEVENT
DTSTART;TZID=Europe/Berlin:20250824T143000
DTEND;TZID=Europe/Berlin:20250824T170000
DTSTAMP:20260421T103000
CREATED:20240907T154314Z
LAST-MODIFIED:20250802T145712Z
UID:10003375-1756045800-1756054800@www.kulturkreis-lintelner-geest.de
SUMMARY:Ausstellung Kunst aus der Schule
DESCRIPTION:Seit dem Jahr 2000 stellen Schülerinnen und Schüler der Schule am Lindhoop nach den Sommerferien ihre im Unterricht gestalteten Kunstwerke aus.\nIn diesem Jahr sind es 39 Arbeiten aus den Bereichen „Kunst“ und „Textiles Gestalten“ der Jahrgangsstufen 6-10. Aus dem Bereich „Textiles Gestalten“ sind es Farbcollagen\, Reservedrucktechniken\, experimentellen Textildruck und Arbeiten zur Innenraumgestaltung im Karton. Das Fach Kunst zeigt hauptsächlich Arbeiten aus dem Bereich Grafik. So sind aus der Auseinandersetzung mit grafischen Mitteln Bilder mit dem grafischen Mittel „Punkt“ entstanden\, Umrisszeichnungen\, sowie thematisch gesteuerte Auseinandersetzungen eines Themas mit den grafischen Mittel Punkt\, Strich und Linie. Ferner sind Collagen in der Zweifarbtechnik zu sehen. \nDie Vernissage findet am Sonntag\, dem 17. August 2025 um 15.00 Uhr statt. Die Vernissage wird von einer Schülerin musikalisch am Klavier begleitet. \nDie Ausstellung läuft vom 17. August 2025 bis zum 14. September 2025. Sie können Sie jeden Sonntag in der Zeit von 14.30 bis 17.00 Uhr besichtigen. Die ehrenamtlichen Helferinnen laden dann zu Kaffee\, Tee und selbstgebackenen Torten und Kuchen ein. \nFür Leseraten ist dann auch immer die Bücherstube im oberen Stockwerk geöffnet.  Gegen eine Spende können die Bücher auch erstanden werden. Leider ist die Bücherstube\, die sich im Dachgeschoss des denkmalgeschützten Müllerhauses befindet\, für Gehbehinderte und Rollstuhlfahrer nur sehr schwer bzw. nicht zugänglich. \nWir freuen uns auf Ihren Besuch.
URL:https://www.kulturkreis-lintelner-geest.de/event/ausstellung-kunst-aus-der-schule-2/2025-08-24/
LOCATION:Müllerhaus Brunsbrock\, Schmomühlener Straße 9\, Kirchlinteln/Brunsbrock\, 27308\, Deutschland
CATEGORIES:Ausstellungen
ORGANIZER;CN="Kulturkreis Lintelner Geest e.V.":MAILTO:muellerhaus[ät]kulturkreis-lintelner-geest.de
GEO:52.9563097;9.3787651
X-APPLE-STRUCTURED-LOCATION;VALUE=URI;X-ADDRESS=Müllerhaus Brunsbrock Schmomühlener Straße 9 Kirchlinteln/Brunsbrock 27308 Deutschland;X-APPLE-RADIUS=500;X-TITLE=Schmomühlener Straße 9:geo:9.3787651,52.9563097
END:VEVENT
END:VCALENDAR